BEGIN:VCALENDAR
VERSION:2.0
PRODID:-//Penticton Trade and Convention Centre - ECPv6.15.20//NONSGML v1.0//EN
CALSCALE:GREGORIAN
METHOD:PUBLISH
X-ORIGINAL-URL:https://pentictonconventioncentre.com
X-WR-CALDESC:Events for Penticton Trade and Convention Centre
REFRESH-INTERVAL;VALUE=DURATION:PT1H
X-Robots-Tag:noindex
X-PUBLISHED-TTL:PT1H
BEGIN:VTIMEZONE
TZID:America/Vancouver
BEGIN:DAYLIGHT
TZOFFSETFROM:-0800
TZOFFSETTO:-0700
TZNAME:PDT
DTSTART:20250309T100000
END:DAYLIGHT
BEGIN:STANDARD
TZOFFSETFROM:-0700
TZOFFSETTO:-0800
TZNAME:PST
DTSTART:20251102T090000
END:STANDARD
BEGIN:DAYLIGHT
TZOFFSETFROM:-0800
TZOFFSETTO:-0700
TZNAME:PDT
DTSTART:20260308T100000
END:DAYLIGHT
BEGIN:STANDARD
TZOFFSETFROM:-0700
TZOFFSETTO:-0800
TZNAME:PST
DTSTART:20261101T090000
END:STANDARD
BEGIN:DAYLIGHT
TZOFFSETFROM:-0800
TZOFFSETTO:-0700
TZNAME:PDT
DTSTART:20270314T100000
END:DAYLIGHT
BEGIN:STANDARD
TZOFFSETFROM:-0700
TZOFFSETTO:-0800
TZNAME:PST
DTSTART:20271107T090000
END:STANDARD
END:VTIMEZONE
BEGIN:VEVENT
DTSTART;TZID=America/Vancouver:20260302T200000
DTEND;TZID=America/Vancouver:20260302T220000
DTSTAMP:20260421T014513
CREATED:20250902T135647Z
LAST-MODIFIED:20260303T024317Z
UID:10000110-1772481600-1772488800@pentictonconventioncentre.com
SUMMARY:Bud Light presents Josh Ross: Later Tonight Tour
DESCRIPTION:Bud Light Presents: Josh Ross Later Tonight Tour with special guest Chandler Walters \n\n\n\nJosh Ross is bringing his signature blend of modern country and rock to the Penticton Trade and Convention Centre on March 2\, 2026. With chart-topping hits like “Trouble” and “Single Again\,” and fresh off his debut album Later Tonight\, this all-ages show promises a night of unforgettable music and energy – with special guest Chandler Walters. \n\n\n\nEvent Hours and Box Office InformationGeneral Admission tickets starting at $65.00* and can be purchased online at www.ValleyFirstTix.com or in person at the Valley First Box Office (at the SOEC) starting Friday\, September 5 at 10:00 AM PT. *Additional fees apply. \n\n\n\nTickets and will-call tickets are available for pick up at the Valley First Box Office (at the SOEC) Monday to Friday 10:00 AM to 4:00 PM. Please present your photo ID\, confirmation number\, and credit card used to purchase.  \n\n\n\nDay of\, the Valley First Box Office relocates to our Entrance 3\, 30 minutes before doors. The remote Box Office offers will call ticket pick up and day of sales. \n\n\n\nDoors: 7:00 PMShow: 8:00 PMAge Restrictions: All ages event \n\n\n\nClear Bag Policy:Aligning with industry standards\, the Penticton Trade and Convention Centre will be enforcing measures\, like the “Clear Bag Policy\,” to create a safe environment ensuring public safety and expedite entry during security checks for this event. \n\n\n\nClear bags and small purse/belt bag/clutch wallets will only be permitted for this event. \n\n\n\nClear bags must be:– Clear plastic\, vinyl\, or PC\, 12″x6″x12″– One gallon clear freezer bags (ex: ziplock)– Clear backpacks no larger than 12″ x 6″ x 12″ with no more than two pocketsSmall purses/belt bag/Clutch/Wallets must be:– Bags sized 4.5″ x 6.5″ or smaller are acceptable to bring to the venue with one clear bag option. \n\n\n\nClear Bag Policy | Seating Map
URL:https://pentictonconventioncentre.com/event/josh-ross-later-tonight-tour/
ATTACH;FMTTYPE=image/jpeg:https://pentictonconventioncentre.com/wp-content/uploads/2025/08/JoshRoss_2025_1920X1080_PENTICTON.jpg
END:VEVENT
BEGIN:VEVENT
DTSTART;TZID=America/Vancouver:20260307T000000
DTEND;TZID=America/Vancouver:20260308T235959
DTSTAMP:20260421T014513
CREATED:20251215T170239Z
LAST-MODIFIED:20260307T192754Z
UID:10000131-1772841600-1773014399@pentictonconventioncentre.com
SUMMARY:30th Annual Penticton Home & Reno Show 2026
DESCRIPTION:The 30th Annual Penticton Home and Reno Show\, produced by the Canadian Home Builders’ Association (CHBA) South Okanagan\, returns to Penticton on Saturday\, March 7 and Sunday\, March 8\, 2026. Sponsored by Home Hardware Building Centre\, FortisBC\, Skyview\, Shelf Genie\, Castanet\, SkyFire Energy\, and the City of Penticton. \n\n\n\nDisplays feature home building\, decorating\, renovating products and so much more!! Exhibitors and attendees agree this is the BIGGEST and best show in the Okanagan.  \n\n\n\nSPONSOR CONTESTS: \n\n\n\nVisit Penticton Home Hardware from February 1st until March 6th 2026 for an EXTRA chance to win either a $3500 OR $1500 Home Installs Gift Card. Ask any staff member for a “Penticton Home Show Ballot”. Bring your ballot to the show and receive a second at admission – contest entries will be collected at the Home Hardware booths! \n\n\n\nSkyview is giving away a $2500 Gift Card that can be used toward ANYTHING in their collection of custom cabinetry\, closets or blinds. Ballots will be distributed at admission. Ballots will be distributed at admission – contest contest entries will be collected at the Skyview booths! \n\n\n\nSHOW EXTRAS: \n\n\n\n$5 Smokies for Students! The CHBASO will be hosting a BBQ from 12:00 AM to 2:00 PM both Saturday and Sunday\, raising funds for the Trade Program Bursary Fund. Grab some lunch and support our local trade programs! \n\n\n\nBring the kids along to check out the FREE bouncy castle\, colouring and games area. \n\n\n\nShow HoursSaturday\, March 7: 10:00 AM to 5:00 PMSunday\, March 8: 10:00 AM to 4:00 PM \n\n\n\nConcession HoursSaturday\, March 7: 10:00 AM to 5:00 PMSunday\, March 8: 10:00 AM to 4:00 PMAdmissionEntry by donation  \n\n\n\nIf you’re looking to exhibit at the Penticton Home & Reno Show\, please visit chba.org or click the link below.
URL:https://pentictonconventioncentre.com/event/penticton-home-reno-show-2026/
ATTACH;FMTTYPE=image/png:https://pentictonconventioncentre.com/wp-content/uploads/2025/12/26C7-8_2026-HOME-AND-RENO-_1920x1080-1.png
END:VEVENT
BEGIN:VEVENT
DTSTART;TZID=America/Vancouver:20260309T160000
DTEND;TZID=America/Vancouver:20260309T180000
DTSTAMP:20260421T014513
CREATED:20260309T164056Z
LAST-MODIFIED:20260309T164058Z
UID:10000145-1773072000-1773079200@pentictonconventioncentre.com
SUMMARY:Penticton Trade & Convention Information Session & Walking Tour
DESCRIPTION:The City of Penticton is proposing land use changes that could enable a future hotel attached to the Penticton Trade and Convention Centre (PTCC)\, if and when the market supports it. An attached hotel has long been identified as a key step to make Penticton more competitive\, attracting year-round visitors that support local businesses and fuel a strong local economy. \n\n\n\nThis work builds on the North Gateway Plan to create a vibrant sports\, events and cultural district alongside the SOEC\, casino\, Community Centre and Cleland Theatre. \n\n\n\nThis conversation is about land readiness\, not approving a specific hotel. Any future hotel proposal would go through a full public process and approvals. \n\n\n\nLearn what’s being proposed\, see which land is being considered and find out how you can get involved. You will have an opportunity to vote on this matter during the General Election in October 2026.  \n\n\n\nInformation Session & Walkshop TourPenticton Trade & Convention Centre (PTCC)273 Power Street\, PentictonMonday\, March 9\, 2026 from 4-6 p.m. (Optional walkshop site tours at 4:30 p.m. & 5:30 p.m.) Learn more at shapeyourcitypenticton.ca
URL:https://pentictonconventioncentre.com/event/penticton-trade-convention-information-session-walking-tour/
ATTACH;FMTTYPE=image/jpeg:https://pentictonconventioncentre.com/wp-content/uploads/2026/03/Penticton-Trade-Convention-Information-Session-Walking-Tour.jpg
END:VEVENT
BEGIN:VEVENT
DTSTART;TZID=America/Vancouver:20260318T100000
DTEND;TZID=America/Vancouver:20260318T160000
DTSTAMP:20260421T014513
CREATED:20251105T164809Z
LAST-MODIFIED:20251105T180149Z
UID:10000123-1773828000-1773849600@pentictonconventioncentre.com
SUMMARY:Start Here Penticton Job Fair 2026
DESCRIPTION:Mark your calendar for the largest job fair in the South Okanagan! Meet dozens of employers looking for a range of skills and experience.  Explore new opportunities. Connect with employment support organizations. Seek out your dream job. Brought to you by the Penticton & Wine Country Chamber of Commerce\, City of Penticton and WorkBC South Okanagan. \n\n\n\nWhen: March 18\, 2026\, from 10 a.m. to 4 p.m.Cost: Free for job seekers to attend \n\n\n\nJob Seekers \n\n\n\nSign up today to attend the job fair and see which employers are registered.  \n\n\n\nBusinesses Secure Your Spot \n\n\n\nAre you a local employer with jobs to fill? This is an opportunity to promote your business to hundreds of job-seekers from throughout the region. Connect with students\, newcomers and highly skilled workers. Meet\, attract and hire your ideal employees.  \n\n\n\nRegister here: Start Here Penticton Job Fair | City of Penticton
URL:https://pentictonconventioncentre.com/event/start-here-penticton-job-fair-2026/
ATTACH;FMTTYPE=image/png:https://pentictonconventioncentre.com/wp-content/uploads/2025/11/SHP-Job-Fair-Social-1920x1080px-25-10-22-web.png
END:VEVENT
BEGIN:VEVENT
DTSTART;TZID=America/Vancouver:20260321T000000
DTEND;TZID=America/Vancouver:20260322T235959
DTSTAMP:20260421T014513
CREATED:20260115T223137Z
LAST-MODIFIED:20260311T175032Z
UID:10000141-1774051200-1774223999@pentictonconventioncentre.com
SUMMARY:Artisans Showcase: "Hello Spring" Market 2026
DESCRIPTION:An Artisans Showcase is excited to bring back their 6th Annual “Hello Spring” Market to the Penticton Trade and Convention Centre on Saturday\, March 21\, and Sunday\, March 22\, 2026. \n\n\n\nThe Market will bring together an array of local talented artisans\, small businesses\, and crafters.  Come check out some of the Market Themes such as a DIY workshops\, live painting\, garden decor ideas or pottery demos. Something for everyone one to enjoy. \n\n\n\nWhat better way to support local this spring than by discovering incredible handmade creations from talented Okanagan Valley & Canadian Artisans… Don’t miss out on this one-of-a-kind market experience! Tag your shopping buddies & come find something truly special.Show Hours:  \n\n\n\nSaturday\, March 21: 9:00 AM to 5:00 PM Sunday\, March 22: 10:00 AM to 3:00 PM \n\n\n\nAdmission: \n\n\n\nAdmission is $5.00 for the weekend or $3.00 per day – cash\, debit or credit card\, payable at the door. Children 12 and under are free. \n\n\n\n*Part of the admission fees will be donated to the Penticton Community Fridge & Pantry to help those in need fill their tummies. \n\n\n\nConcession Hours:  \n\n\n\nSaturday\, March 21: 1000 AM to 4:00 PM Sunday\, March 22: 10:00 AM to 2:00 PM \n\n\n\nIf you’re looking to secure a booth at the “Hello Spring” Market\, please visit artisansshowcase.com.
URL:https://pentictonconventioncentre.com/event/artisans-showcase-hello-spring-market-2026/
ATTACH;FMTTYPE=image/png:https://pentictonconventioncentre.com/wp-content/uploads/2026/01/26C21-22-PTCC-Artisans-Showcase-Hello-Spring-1920x1080-1.png
END:VEVENT
BEGIN:VEVENT
DTSTART;TZID=America/Vancouver:20260327T193000
DTEND;TZID=America/Vancouver:20260327T223000
DTSTAMP:20260421T014513
CREATED:20251209T165200Z
LAST-MODIFIED:20260327T203759Z
UID:10000135-1774639800-1774650600@pentictonconventioncentre.com
SUMMARY:**SOLD OUT ** Rise Against with special guests Destroy Boys\, Speed of Light
DESCRIPTION:Please note\, this show is SOLD OUT.  \n\n\n\nPunk-rock powerhouses Rise Against are heading to the Penticton Trade & Convention Centre on March 27\, 2026. Known for their high-energy performances\, socially charged anthems\, and an explosive live show\, Rise Against will bring an unforgettable night of music to Penticton. Joining them are Destroy Boys and Speed of Light. \n\n\n\nKnow Before You Go ↓\n\n\n\nTickets:This show is SOLD OUT.  \n\n\n\nDoors: 6:30 PMShow: 7:30 PM \n\n\n\nSubject to change. Follow the PTCC social channels for day-of updates & set times. \n\n\n\nAge Restrictions: All ages event \n\n\n\nThis is a general admission\, standing‑room‑only event. Arrive early to secure your spot\, space is first‑come\, first‑served. \n\n\n\nBox Office Information: \n\n\n\nThe Valley First Box Office at the SOEC will be open 10:00 AM – 4:00 PM day-of show. \n\n\n\nThe Valley First Box Office relocates to a remote box office located at the PTCC Entrance 3\, at 5:30 PM. The remote Box Office offers will call ticket pick up. To pick up tickets at Will Call\, please be sure to bring your ID and a copy of your confirmation email.  \n\n\n\nPlease ensure mobile tickets are downloaded to your phone prior to arrival. Purchasers can manage tickets by logging into their mobile account\, selecting “Add to Wallet” for the specific event. Mobile tickets work with Apple Wallet and Google Pay.  \n\n\n\nYour confirmation email is NOT your ticket; you must present your Mobile ticket with a QR code or your Print at Home ticket or the paper ticket you purchased in person at the box office for entry.  \n\n\n\nVenue Information: \n\n\n\nParking is first-come\, first-served and will be limited. We encourage fans to use public transit\, local taxi or ride-share services\, or carpool when possible. \n\n\n\nVenue concessions for food and beverage will be open. Cashless concession\, accepts CARD ONLY. \n\n\n\nMerchandise will be available for purchase during the show. Cashless merch stand\, accepts CARD ONLY. \n\n\n\nATMS are available on site. \n\n\n\nThe Penticton Trade and Convention Centre is a smoke and vape-free facility. Guests are prohibited from smoking\, vaping or using e-cigarettes in the convention centre. There are designated smoking areas\, with ash trays outside of Entrance 3. \n\n\n\nEntry Requirements: \n\n\n\nPatrons may be refused entry if they are in possession of prohibited items. For full list of prohibited items\, visit our FAQ.The PTCC reserves the right to escort guests carrying prohibited items from the property. \n\n\n\nOutside food and beverage will NOT be permitted into the venue. \n\n\n\nThere will be bag checks and security pat downs at the entry gates\, monitoring both prohibited and restricted items. \n\n\n\nClear Bag Policy in effect:Aligning with industry standards\, the Penticton Trade and Convention Centre will be enforcing measures\, like the “Clear Bag Policy\,” to create a safe environment ensuring public safety and expedite entry during security checks for this event. \n\n\n\nClear bags and small purse/belt bag/clutch wallets will only be permitted for this event. \n\n\n\nClear bags must be:– Clear plastic\, vinyl\, or PC\, 12″x6″x12″– One gallon clear freezer bags (ex: ziplock)– Clear backpacks no larger than 12″ x 6″ x 12″ with no more than two pocketsSmall purses/belt bag/Clutch/Wallets must be:– Bags sized 4.5″ x 6.5″ or smaller are acceptable to bring to the venue with one clear bag option. \n\n\n\nClear bags can be purchased here.  \n\n\n\nClear Bag Policy | Seating Map
URL:https://pentictonconventioncentre.com/event/rise-against-with-special-guests-destroy-boys/
ATTACH;FMTTYPE=image/jpeg:https://pentictonconventioncentre.com/wp-content/uploads/2025/12/Static_Social_1920x1080_RiseAgainst_2026_Regional_PentictonTradeandConventionCentre_0327_SOLD-OUT.jpg
END:VEVENT
BEGIN:VEVENT
DTSTART;TZID=America/Vancouver:20260328T190000
DTEND;TZID=America/Vancouver:20260328T223000
DTSTAMP:20260421T014513
CREATED:20251001T133336Z
LAST-MODIFIED:20260227T174142Z
UID:10000118-1774724400-1774737000@pentictonconventioncentre.com
SUMMARY:** Cancelled ** Hairball - Presented By F7 Live
DESCRIPTION:Due to unforeseen circumstances\, Hairball at the Penticton Trade & Convention Centre\, originally scheduled for Saturday\, March 28\, has been cancelled. \n\n\n\nCustomers who purchased tickets with a credit card will have the ticket price and the per-ticket fee automatically reversed beginning March 5th\, 2026. Please be advised that credit card refunds can take between 5–10 days to post on your statements. Please contact the Valley First Box Office (at the SOEC) at SOEC-boxoffice@oakviewgroup.com if a credit card refund has not occurred by March 20th. \n\n\n\nFor cash and in person debit (Online Visa Debit/MasterCard Debit will be refunded automatically) purchases\, refunds can only be issued in person at the Valley First Box Office at the SOEC Monday to Friday\, 10:00am – 4:00pm. All refunds must be completed by June 30th at 4:00pm. \n\n\n\nFor questions or concerns\, please contact the Valley First Box Office at SOEC-boxoffice@oakviewgroup.com or at 250-276-2144. \n\n\n\nThank you for your patience and understanding.
URL:https://pentictonconventioncentre.com/event/hairball-presented-by-f7-live/
ATTACH;FMTTYPE=image/png:https://pentictonconventioncentre.com/wp-content/uploads/2025/10/26C28-Hairball_1920x1080_cancelled.png
END:VEVENT
BEGIN:VEVENT
DTSTART;TZID=America/Vancouver:20260331T000000
DTEND;TZID=America/Vancouver:20260331T235959
DTSTAMP:20260421T014513
CREATED:20251114T204423Z
LAST-MODIFIED:20251114T204424Z
UID:10000124-1774915200-1775001599@pentictonconventioncentre.com
SUMMARY:BC Wine Industry Insight Conference & Industry Awards + Canadian Wine Industry Awards 2026
DESCRIPTION:Wine Growers British Columbia is excited to announce that the annual Insight Conference will be held in Penticton\, BC\, on Tuesday\, March 31\, 2026. This year’s conference is designed to offer valuable insights and strategies tailored to BC winery owners\, team leaders\, and marketing professionals. Highlights will include the BC Wine Industry Recognition Awards and Canadian Wine Industry Awards ceremony\, celebrating industry excellence. \n\n\n\nPlease note: This event is for registered delegates.
URL:https://pentictonconventioncentre.com/event/bc-wine-industry-insight-conference-industry-awards-canadian-wine-industry-awards-2026/
ATTACH;FMTTYPE=image/png:https://pentictonconventioncentre.com/wp-content/uploads/2024/12/25C12_PTCC_BC_Wine_Industry_Insight_Conference_1920-x-1080.png
END:VEVENT
END:VCALENDAR