BEGIN:VCALENDAR
VERSION:2.0
PRODID:-//Penticton Trade and Convention Centre - ECPv6.15.20//NONSGML v1.0//EN
CALSCALE:GREGORIAN
METHOD:PUBLISH
X-ORIGINAL-URL:https://pentictonconventioncentre.com
X-WR-CALDESC:Events for Penticton Trade and Convention Centre
REFRESH-INTERVAL;VALUE=DURATION:PT1H
X-Robots-Tag:noindex
X-PUBLISHED-TTL:PT1H
BEGIN:VTIMEZONE
TZID:America/Vancouver
BEGIN:DAYLIGHT
TZOFFSETFROM:-0800
TZOFFSETTO:-0700
TZNAME:PDT
DTSTART:20240310T100000
END:DAYLIGHT
BEGIN:STANDARD
TZOFFSETFROM:-0700
TZOFFSETTO:-0800
TZNAME:PST
DTSTART:20241103T090000
END:STANDARD
BEGIN:DAYLIGHT
TZOFFSETFROM:-0800
TZOFFSETTO:-0700
TZNAME:PDT
DTSTART:20250309T100000
END:DAYLIGHT
BEGIN:STANDARD
TZOFFSETFROM:-0700
TZOFFSETTO:-0800
TZNAME:PST
DTSTART:20251102T090000
END:STANDARD
BEGIN:DAYLIGHT
TZOFFSETFROM:-0800
TZOFFSETTO:-0700
TZNAME:PDT
DTSTART:20260308T100000
END:DAYLIGHT
BEGIN:STANDARD
TZOFFSETFROM:-0700
TZOFFSETTO:-0800
TZNAME:PST
DTSTART:20261101T090000
END:STANDARD
END:VTIMEZONE
BEGIN:VEVENT
DTSTART;TZID=America/Vancouver:20251205T173000
DTEND;TZID=America/Vancouver:20251205T223000
DTSTAMP:20260422T065848
CREATED:20251028T223543Z
LAST-MODIFIED:20251028T223545Z
UID:10000121-1764955800-1764973800@pentictonconventioncentre.com
SUMMARY:Jingle & Mingle: Martinis and Mistletoe
DESCRIPTION:Jingle & Mingle: Martinis and MistletoePresented by Paradox Events \n\n\n\nGet ready for a festive evening of laughs\, fun\, and good company with Comedian Big Daddy Tazz. \n\n\n\nDate: Friday\, December 5thLocation: Penticton Trade & Convention CentreTime: 5:30 PM – 10:30 PMAge: 18+ (valid id required) \n\n\n\nMark your calendars—this is one night you won’t want to miss!
URL:https://pentictonconventioncentre.com/event/jingle-mingle-martinis-and-mistletoe/
ATTACH;FMTTYPE=image/png:https://pentictonconventioncentre.com/wp-content/uploads/2025/10/Jingle-Mingle-Martinis-and-Mistletoe-Dec-5-Penticton.png
END:VEVENT
BEGIN:VEVENT
DTSTART;TZID=America/Vancouver:20251213T000000
DTEND;TZID=America/Vancouver:20251214T235959
DTSTAMP:20260422T065848
CREATED:20250923T192952Z
LAST-MODIFIED:20251204T170229Z
UID:10000117-1765584000-1765756799@pentictonconventioncentre.com
SUMMARY:Last Chance Gift & Artisans Expo 2025
DESCRIPTION:Don’t miss The Last Chance Gift & Artisans Expo at the Penticton Trade and Convention Centre on December 13th and 14\, 2025.   \n\n\n\nIt’s the perfect time to find those thoughtful\, last-minute gifts to put under the tree. With 80+ local artisans and small businesses offering unique holiday treasures\, handmade goodies\, and festive décor\, you’re sure to find something special for everyone on your list!  \n\n\n\nPartial proceeds to the Purple Pantry to help out those with hungry tummies this Holiday Season. \n\n\n\nShow Hours \n\n\n\nSaturday\, December 13: 10:00 AM – 5:00 PMSunday\, December 14: 10:00 AM – 3:00 PM \n\n\n\nAdmission \n\n\n\n$3 per day or $5 for the weekend is payable at the door. Debit and credit accepted.Children 15 and under are free! \n\n\n\nConcession Hours \n\n\n\nSaturday\, December 13: 10:00 AM – 4:00 PMSunday\, December 14: 10:00 AM – 2:00 PM \n\n\n\nFor vendor information and applications\, please visit: ArtisansShowcase.com
URL:https://pentictonconventioncentre.com/event/last-chance-gift-artisans-expo-2025/
ATTACH;FMTTYPE=image/png:https://pentictonconventioncentre.com/wp-content/uploads/2025/09/25L1314-PTCC-Last-Chance-Gift-Artisans-Expo-TVHD-1920-x-1080-px.png
END:VEVENT
END:VCALENDAR