BEGIN:VCALENDAR
VERSION:2.0
PRODID:-//Penticton Trade and Convention Centre - ECPv6.15.20//NONSGML v1.0//EN
CALSCALE:GREGORIAN
METHOD:PUBLISH
X-ORIGINAL-URL:https://pentictonconventioncentre.com
X-WR-CALDESC:Events for Penticton Trade and Convention Centre
REFRESH-INTERVAL;VALUE=DURATION:PT1H
X-Robots-Tag:noindex
X-PUBLISHED-TTL:PT1H
BEGIN:VTIMEZONE
TZID:America/Vancouver
BEGIN:DAYLIGHT
TZOFFSETFROM:-0800
TZOFFSETTO:-0700
TZNAME:PDT
DTSTART:20230312T100000
END:DAYLIGHT
BEGIN:STANDARD
TZOFFSETFROM:-0700
TZOFFSETTO:-0800
TZNAME:PST
DTSTART:20231105T090000
END:STANDARD
BEGIN:DAYLIGHT
TZOFFSETFROM:-0800
TZOFFSETTO:-0700
TZNAME:PDT
DTSTART:20240310T100000
END:DAYLIGHT
BEGIN:STANDARD
TZOFFSETFROM:-0700
TZOFFSETTO:-0800
TZNAME:PST
DTSTART:20241103T090000
END:STANDARD
BEGIN:DAYLIGHT
TZOFFSETFROM:-0800
TZOFFSETTO:-0700
TZNAME:PDT
DTSTART:20250309T100000
END:DAYLIGHT
BEGIN:STANDARD
TZOFFSETFROM:-0700
TZOFFSETTO:-0800
TZNAME:PST
DTSTART:20251102T090000
END:STANDARD
END:VTIMEZONE
BEGIN:VEVENT
DTSTART;TZID=America/Vancouver:20240604T080000
DTEND;TZID=America/Vancouver:20240607T130000
DTSTAMP:20260423T085906
CREATED:20240514T213425Z
LAST-MODIFIED:20251202T214551Z
UID:10000018-1717488000-1717765200@pentictonconventioncentre.com
SUMMARY:2024 Educational Facility Managers Association of BC Conference\, AGM & Trade Show
DESCRIPTION:Supporting Your Success \n\n\n\n \n\n\n\nSince 1964\, Educational Facility Managers from school districts around BC have been meeting to provide support to one another and share ideas. Members come from a variety of backgrounds with the common goal of maintaining a high standard of professional knowledge and skill as well as safety. \n\n\n\nEFMA of BC returns to the Penticton Trade and Convention Centre for their 59th Annual Conference and Trade Show. The conference and trade show takes place May 31 to June 2\, 2023. \n\n\n\nPlease note: For registered exhibitors and delegates only.
URL:https://pentictonconventioncentre.com/event/efma-2024/
ATTACH;FMTTYPE=image/png:https://pentictonconventioncentre.com/wp-content/uploads/2024/05/WEDNESDAY-JUNE.png
END:VEVENT
BEGIN:VEVENT
DTSTART;TZID=America/Vancouver:20240607T193000
DTEND;TZID=America/Vancouver:20240607T213000
DTSTAMP:20260423T085906
CREATED:20240514T214824Z
LAST-MODIFIED:20240702T224849Z
UID:10000019-1717788600-1717795800@pentictonconventioncentre.com
SUMMARY:The BC Top 50 Grand Tasting
DESCRIPTION:The Okanagan Spring Wine Festival proudly introduces the BC Top 50 Grand Tasting. Be the first to taste the Top 50 wines selected by the esteemed judging panel of the British Columbia Wine Awards. \n\n\n\nThe judging competition takes place May 27-29. This exclusive tasting is the inaugural eve of the Okanagan Spring Wine Festival..  \n\n\n\nEnjoy this incredible showcase of BC’s Top 50 wines as well as the wines that were submitted during the competition. It is an evening featuring the wines that our winemaker’s considered their best! \n\n\n\nThis is a wine focussed event and their will be some light snacks and music.  \n\n\n\n@visitsouthokanagan  \n\n\n\n\n\n\nMore Info
URL:https://pentictonconventioncentre.com/event/bc-top-50-grand-tasting/
ATTACH;FMTTYPE=image/jpeg:https://pentictonconventioncentre.com/wp-content/uploads/2024/05/BCWineTop50-Portrait.jpg
END:VEVENT
BEGIN:VEVENT
DTSTART;TZID=America/Vancouver:20240610T130000
DTEND;TZID=America/Vancouver:20240616T120000
DTSTAMP:20260423T085906
CREATED:20240514T215351Z
LAST-MODIFIED:20240702T224724Z
UID:10000020-1718024400-1718539200@pentictonconventioncentre.com
SUMMARY:Peach City Bridge Tournament 2024
DESCRIPTION:The annual Peach City Bridge Tournament\, Canada’s largest and most enjoyable regional bridge tournament returns to Penticton for excitement and many games. \n\n\n\nWe thank you for selecting our tournament in beautiful Penticton\, British Columbia. \n\n\n\nWe are committed to providing the highest level of bridge and hospitality and hope your visit will be memorable.
URL:https://pentictonconventioncentre.com/event/penticton-peach-city-bridge-tournament-2024/
ATTACH;FMTTYPE=image/jpeg:https://pentictonconventioncentre.com/wp-content/uploads/2024/05/20170612-bridge-tournament-008-768x512-1.jpg
END:VEVENT
BEGIN:VEVENT
DTSTART;TZID=America/Vancouver:20240621T190000
DTEND;TZID=America/Vancouver:20240621T213000
DTSTAMP:20260423T085906
CREATED:20240514T221434Z
LAST-MODIFIED:20240702T224257Z
UID:10000021-1718996400-1719005400@pentictonconventioncentre.com
SUMMARY:Princess Margaret Secondary 2024 Graduation Ceremony
DESCRIPTION:Congratulations Grads of 2024! \n\n\n\nThe Princess Margaret Secondary’s 2024 Graduation Ceremony takes place in Ballroom 1. \n\n\n\nDoors are scheduled to open at 6:00 PM.  \n\n\n\nPlease note: This event is for grads and guests only. 
URL:https://pentictonconventioncentre.com/event/princess-margaret-secondary-2024-graduation-ceremony/
ATTACH;FMTTYPE=image/jpeg:https://pentictonconventioncentre.com/wp-content/uploads/2024/05/OurSchool.jpg
END:VEVENT
BEGIN:VEVENT
DTSTART;TZID=America/Vancouver:20240629T200000
DTEND;TZID=America/Vancouver:20240630T140000
DTSTAMP:20260423T085906
CREATED:20240426T220307Z
LAST-MODIFIED:20240702T224053Z
UID:10000011-1719691200-1719756000@pentictonconventioncentre.com
SUMMARY:Penticton Elvis Festival 2024
DESCRIPTION:The Penticton Elvis Festival is entering its 22nd year as a tribute artist competition\, sanctioned and licensed by Elvis Presley Enterprises – one of only a few in the world. The three-day festival\, indoors at the Penticton Trade and Convention Centre and outdoors at Okanagan Lake Park\, showcases dozens of Elvis tribute artists.  \n\n\n\nThe Elvis Tribute Artist [ETA] who wins the professional division in Penticton\, enters the Memphis “Ultimate Elvis Finals” with the chance to become recognized as the #1 ETA in the world. Our competitors are the best of the best in both the professional and non-professional categories. \n\n\n\nSo dust off your Blue Suede Shoes and be sure to join us\, where we will celebrate the life\, legacy\, and musical career of the one and only King of Rock & Roll\, Elvis Presley. Featuring 2024 headliners Ben Thompson (2018 Ultimate Elvis Tribute Competition Grand Champion) and Mat Shank (2023 Penticton Elvis Festival Professional Grand Champion)\, and Special Guest Corny Rempel (2017  Penticton Elvis Festival Professional Grand Champion). This is a weekend you will not want to miss so get your tickets now!2024 Elvis Festival Events at the Penticton Trade & Convention Centre:  \n\n\n\n\nSaturday Tribute Show (June 29) at 8:00 PM **SOLD OUT**\n\n\n\nSunday Judged Finals (June 30) 2:00 PM \n\n\n\n\nTickets Tickets for the Saturday Tribute Show and Sunday Judged Finals are available at the Valley First Box Office (at the SOEC) or online at www.ValleyFirstTix.com.  \n\n\n\n\n\n\n\nFor more information about the Penticton Elvis Fesitval visit: https://www.pentictonelvisfestival.ca/ \n\n\n\n\n\n\n\n\n\n\nSeating Map\n\n\n\nTickets
URL:https://pentictonconventioncentre.com/event/penticton-elvis-festival-2024/
ATTACH;FMTTYPE=image/png:https://pentictonconventioncentre.com/wp-content/uploads/2024/04/2024_-PTCC-Elvis-Festival-1200X772_EVENT_HEADER.png
END:VEVENT
END:VCALENDAR