BEGIN:VCALENDAR
VERSION:2.0
PRODID:-//Penticton Trade and Convention Centre - ECPv6.15.20//NONSGML v1.0//EN
CALSCALE:GREGORIAN
METHOD:PUBLISH
X-ORIGINAL-URL:https://pentictonconventioncentre.com
X-WR-CALDESC:Events for Penticton Trade and Convention Centre
REFRESH-INTERVAL;VALUE=DURATION:PT1H
X-Robots-Tag:noindex
X-PUBLISHED-TTL:PT1H
BEGIN:VTIMEZONE
TZID:America/Vancouver
BEGIN:DAYLIGHT
TZOFFSETFROM:-0800
TZOFFSETTO:-0700
TZNAME:PDT
DTSTART:20230312T100000
END:DAYLIGHT
BEGIN:STANDARD
TZOFFSETFROM:-0700
TZOFFSETTO:-0800
TZNAME:PST
DTSTART:20231105T090000
END:STANDARD
BEGIN:DAYLIGHT
TZOFFSETFROM:-0800
TZOFFSETTO:-0700
TZNAME:PDT
DTSTART:20240310T100000
END:DAYLIGHT
BEGIN:STANDARD
TZOFFSETFROM:-0700
TZOFFSETTO:-0800
TZNAME:PST
DTSTART:20241103T090000
END:STANDARD
BEGIN:DAYLIGHT
TZOFFSETFROM:-0800
TZOFFSETTO:-0700
TZNAME:PDT
DTSTART:20250309T100000
END:DAYLIGHT
BEGIN:STANDARD
TZOFFSETFROM:-0700
TZOFFSETTO:-0800
TZNAME:PST
DTSTART:20251102T090000
END:STANDARD
END:VTIMEZONE
BEGIN:VEVENT
DTSTART;TZID=America/Vancouver:20240506T080000
DTEND;TZID=America/Vancouver:20240507T170000
DTSTAMP:20260423T102854
CREATED:20240502T220223Z
LAST-MODIFIED:20240702T231456Z
UID:10000016-1714982400-1715101200@pentictonconventioncentre.com
SUMMARY:HeliCat Canada Spring Meeting 2024
DESCRIPTION:Please join us in person; Monday May 6\, 2024 for the HeliCat Canada Spring Meeting in Penticton\, BC.We look forward to the chance to discuss common issues and challenges\, learn from our shared experiences\, and explore exciting new trends that are shaping the future of our industry. \n\n\n\nWe hope to see you there! \n\n\n\n \n\n\n\nPlease note: For Registered Delegates and Exhibitors Only.
URL:https://pentictonconventioncentre.com/event/helicat-canada-spring-meeting-2024/
ATTACH;FMTTYPE=image/png:https://pentictonconventioncentre.com/wp-content/uploads/2024/05/2024SpringMeeting.png
END:VEVENT
BEGIN:VEVENT
DTSTART;TZID=America/Vancouver:20240507T080000
DTEND;TZID=America/Vancouver:20240509T170000
DTSTAMP:20260423T102854
CREATED:20240502T214343Z
LAST-MODIFIED:20240702T230147Z
UID:10000015-1715068800-1715274000@pentictonconventioncentre.com
SUMMARY:Canadian Avalanche Association 2024 Spring Conference
DESCRIPTION:The CAA Spring Conference returns this year at the Penticton Convention Centre. We’ll gather on May 7-9 2024\, for the AGM and case studies and research presentations. We are also delighted to see the return of our Member Social and Link Up and Learn.  \n\n\n\nPlease note: For Registered Delegates and Exhibitors Only.
URL:https://pentictonconventioncentre.com/event/canadian-avalanche-association-2024-spring-conference/
ATTACH;FMTTYPE=image/png:https://pentictonconventioncentre.com/wp-content/uploads/2024/05/PTCC-Canadian-Avalanche-2024.png
END:VEVENT
BEGIN:VEVENT
DTSTART;TZID=America/Vancouver:20240529T080000
DTEND;TZID=America/Vancouver:20240531T150000
DTSTAMP:20260423T102854
CREATED:20240514T211548Z
LAST-MODIFIED:20240702T225729Z
UID:10000017-1716969600-1717167600@pentictonconventioncentre.com
SUMMARY:2024 BC First Nations Forest Conference
DESCRIPTION:The BC First Nations Forestry Council looks forward to hosting the 2024 BC First Nations Forestry Conference on the traditional territories of the Syilx Okanagan people. We are humbled to be guests on the lands that they have been the caretakers and stewards of since time immemorial. From the nsyilxcən word snpintktn\, the name Penticton has been commonly translated as “a place to stay forever\,” but more accurately means “a place where people have always been all year long\,” or “The Always Place”.
URL:https://pentictonconventioncentre.com/event/2024-bc-first-nations-forest-conference/
ATTACH;FMTTYPE=image/png:https://pentictonconventioncentre.com/wp-content/uploads/2024/05/999837-e1716912826946.png
END:VEVENT
END:VCALENDAR