BEGIN:VCALENDAR
VERSION:2.0
PRODID:-//Penticton Trade and Convention Centre - ECPv6.15.20//NONSGML v1.0//EN
CALSCALE:GREGORIAN
METHOD:PUBLISH
X-WR-CALNAME:Penticton Trade and Convention Centre
X-ORIGINAL-URL:https://pentictonconventioncentre.com
X-WR-CALDESC:Events for Penticton Trade and Convention Centre
REFRESH-INTERVAL;VALUE=DURATION:PT1H
X-Robots-Tag:noindex
X-PUBLISHED-TTL:PT1H
BEGIN:VTIMEZONE
TZID:America/Vancouver
BEGIN:DAYLIGHT
TZOFFSETFROM:-0800
TZOFFSETTO:-0700
TZNAME:PDT
DTSTART:20230312T100000
END:DAYLIGHT
BEGIN:STANDARD
TZOFFSETFROM:-0700
TZOFFSETTO:-0800
TZNAME:PST
DTSTART:20231105T090000
END:STANDARD
BEGIN:DAYLIGHT
TZOFFSETFROM:-0800
TZOFFSETTO:-0700
TZNAME:PDT
DTSTART:20240310T100000
END:DAYLIGHT
BEGIN:STANDARD
TZOFFSETFROM:-0700
TZOFFSETTO:-0800
TZNAME:PST
DTSTART:20241103T090000
END:STANDARD
BEGIN:DAYLIGHT
TZOFFSETFROM:-0800
TZOFFSETTO:-0700
TZNAME:PDT
DTSTART:20250309T100000
END:DAYLIGHT
BEGIN:STANDARD
TZOFFSETFROM:-0700
TZOFFSETTO:-0800
TZNAME:PST
DTSTART:20251102T090000
END:STANDARD
END:VTIMEZONE
BEGIN:VEVENT
DTSTART;TZID=America/Vancouver:20240412T160000
DTEND;TZID=America/Vancouver:20240413T180000
DTSTAMP:20260422T224654
CREATED:20240228T203532Z
LAST-MODIFIED:20240702T234814Z
UID:10000004-1712937600-1713031200@pentictonconventioncentre.com
SUMMARY:Okanagan Fest of Ale 2024
DESCRIPTION:The Okanagan Fest of Ale has been bringing together craft beer lovers and craft brewers to celebrate the almighty ale since 1996! Every April\, Penticton is host to one of the largest and longest-running annual beer festivals in the Pacific Northwest. This two-day event features great entertainment\, fabulous food\, and the opportunity to sample a diverse array of quality crafted beverages. Event Hours and Box Office Information \n\n\n\nTickets and will-call tickets are available for pick up at the Valley First Box Office (at the SOEC) Monday to Friday 10:00 AM to 4:00 PM. Please present your photo ID\, confirmation number\, and credit card used to purchase.  \n\n\n\nDay of\, the Valley First Box Office relocates to our Entrance 2\, 30 minutes before doors. The remote Box Office offers will call ticket pick up and day of sales until sold out.  \n\n\n\nFriday\, April 12: 4:00 PM to 9:00 PM \n\n\n\n\nThe Valley First Box Office (at the SOEC) is open 10:00 AM to 4:00 PM.\n\n\n\nAt 3:30 PM\, the remote Valley First Box Office will be set up at the Convention Centre’s Entrance 2 until 7:30 PM.\n\n\n\n\nSaturday\, April 13: 12:00 PM to 6:00 PM \n\n\n\n\nThe Valley First Box Office (at the SOEC) is open 10:00 AM to 4:00 PM.\n\n\n\nAt 11:30 AM\, the remote Valley First Box Office will be set up at the Convention Centre’s Entrance 2 until 4:30 PM. \n\n\n\n\nTickets \n\n\n\nTickets are available to purchase in-person at the Valley First Box Office (at the SOEC) or online at www.ValleyFirstTix.com.  \n\n\n\nPricing \n\n\n\n\nSingle Day – $42*\n\n\n\n2-Day Passes – $57*\n\n\n\n\n(*Plus Tax and Service Fees. Tasting Tokens are available onsite for purchase\, $2 per token. Tickets are good for single admission on the day(s) noted only.) New This Year: Ride the bus for free to the event and back home after! Simply show your Fest of Ale ticket to the BC Transit driver as you board the bus. Get the details at penticton.ca/transit \n\n\n\nVisit the Fest of Ale Official Website for full event details.  \n\n\n\nNo In/out privileges. Must be 19+ to attend.
URL:https://pentictonconventioncentre.com/event/okanagan-fest-of-ale-2024/
ATTACH;FMTTYPE=image/png:https://pentictonconventioncentre.com/wp-content/uploads/2024/02/fest-of-ale.png
END:VEVENT
BEGIN:VEVENT
DTSTART;TZID=America/Vancouver:20240407T100000
DTEND;TZID=America/Vancouver:20240407T150000
DTSTAMP:20260422T224654
CREATED:20240228T203702Z
LAST-MODIFIED:20240702T235006Z
UID:10000005-1712484000-1712502000@pentictonconventioncentre.com
SUMMARY:7th Annual True Penticton Tourism Expo 2024
DESCRIPTION:Join us for the 7th Annual TRUE Penticton Tourism Expo! \n\n\n\nThis not-to-be-missed FREE tourism event will give you a unique opportunity to meet with local tourism businesses and get you Thinking about the Remarkable Unique Experiences that keep visitors coming back to Penticton year after year. Discover new adventures and reacquaint yourself with all of the amazing activities\, attractions\, accommodations\, restaurants\, wineries\, breweries\, cideries\, events and so much more happening in and around Penticton. \n\n\n\nAt the TRUE Penticton Tourism Expo: \n\n\n\n\nOver 50 local businesses\n\n\n\nPlaces to Play\n\n\n\nAdventure Companies\n\n\n\nLocal Events & Festivals\n\n\n\nPlaces to Stay\n\n\n\nLocal Artisan Retailers\n\n\n\nFood & Drink Samples – Local Wine and Craft Beer\n\n\n\nExclusive Visit Penticton Merchandise\n\n\n\nScavenger Hunt for Kids\n\n\n\nChance to win PRIZES!\n\n\n\n\nLearn more about the exhibitors on our TRUE Penticton Facebook event page. \n\n\n\nThis event is FREE to attend. Visit Penticton is supporting the Penticton Community Fridge & Pantry with a food drive as part of the TRUE Penticton event. So while admission is free\, food donations are encouraged to help support our community. \n\n\n\nFor tourism businesses interested in attending as an exhibitor\, please contact Paige Schulz at paige.schulz@visitpenticton.com.
URL:https://pentictonconventioncentre.com/event/7th-annual-true-penticton-tourism-expo-2024/
ATTACH;FMTTYPE=image/png:https://pentictonconventioncentre.com/wp-content/uploads/2024/02/true-penticton-tourism-expo.png
END:VEVENT
BEGIN:VEVENT
DTSTART;TZID=America/Vancouver:20240323T100000
DTEND;TZID=America/Vancouver:20240324T150000
DTSTAMP:20260422T224654
CREATED:20240228T204256Z
LAST-MODIFIED:20240702T235453Z
UID:10000006-1711188000-1711292400@pentictonconventioncentre.com
SUMMARY:2024 Artisans Showcase Hello Spring Market
DESCRIPTION:An Artisan’s Showcase is excited to bring back their “Hello Spring” Market to the Penticton Trade and Convention Centre on Saturday\, March 23\, and Sunday\, March 24\, 2024. \n\n\n\nThe event will feature 80 local artisans and small businesses. Attendees can partake in a unique Golden Egg Hunt\, where discovering hidden eggs throughout the market could result in winning gift cards to shop at the market. There will also be a special booth dedicated to children’s Easter activities.Show Hours:  \n\n\n\nSaturday\, March 23: 10:00 AM to 5:00 PM Sunday\, March 24: 10:00 AM to 3:00 PM \n\n\n\nAdmission: \n\n\n\nAdmission is $5.00 for the weekend or $3.00 per day – cash payable at the door. Children 12 and under are free. \n\n\n\n*Part of the admission fees will be donated to the Penticton Community Fridge & Pantry to help those in need fill their tummies.
URL:https://pentictonconventioncentre.com/event/2024-artisans-showcase-hello-spring-market/
ATTACH;FMTTYPE=image/png:https://pentictonconventioncentre.com/wp-content/uploads/2024/02/hello-spring-market.png
END:VEVENT
BEGIN:VEVENT
DTSTART;TZID=America/Vancouver:20240320T160000
DTEND;TZID=America/Vancouver:20240320T190000
DTSTAMP:20260422T224654
CREATED:20240314T191446Z
LAST-MODIFIED:20240702T235658Z
UID:10000008-1710950400-1710961200@pentictonconventioncentre.com
SUMMARY:City of Penticton Council Open House 2024
DESCRIPTION:Wednesday\, March 20 is your opportunity to meet members of Council in a casual\, family-friendly environment at the Penticton Trade and Convention Centre between 4:00 pm and 7:00 pm. Staff will be available to answer questions about upcoming changes to housing regulations and development\, upcoming construction projects\, and the leash-optional pilot program. Residents can also meet members of the new Integrated Mobile Response Team (Car 40 program)\, RCMP\, Penticton Fire and Bylaw\, Community Safety Officers and Social Development department as part of the City’s commitment to public safety and partnerships. \n\n\n\nAll welcome\, childrens activities and refreshments are provided. \n\n\n\nCome out and see how Council is moving forward with its priorities to create a community that is Safe & Resilient\, Livable & Accessible\, and Vibrant & Connected while also delivering Organizational Excellence.  \n\n\n\nLocation: Atrium at the Penticton Trade and Convention CentreDate: Wednesday\, March 20\, 2024Time:  4:00 pm – 7:00 pm
URL:https://pentictonconventioncentre.com/event/city-of-penticton-council-open-house-2024/
ATTACH;FMTTYPE=image/png:https://pentictonconventioncentre.com/wp-content/uploads/2024/03/dCS9w.png
END:VEVENT
END:VCALENDAR