BEGIN:VCALENDAR
VERSION:2.0
PRODID:-//Penticton Trade and Convention Centre - ECPv6.15.20//NONSGML v1.0//EN
CALSCALE:GREGORIAN
METHOD:PUBLISH
X-WR-CALNAME:Penticton Trade and Convention Centre
X-ORIGINAL-URL:https://pentictonconventioncentre.com
X-WR-CALDESC:Events for Penticton Trade and Convention Centre
REFRESH-INTERVAL;VALUE=DURATION:PT1H
X-Robots-Tag:noindex
X-PUBLISHED-TTL:PT1H
BEGIN:VTIMEZONE
TZID:America/Vancouver
BEGIN:DAYLIGHT
TZOFFSETFROM:-0800
TZOFFSETTO:-0700
TZNAME:PDT
DTSTART:20250309T100000
END:DAYLIGHT
BEGIN:STANDARD
TZOFFSETFROM:-0700
TZOFFSETTO:-0800
TZNAME:PST
DTSTART:20251102T090000
END:STANDARD
BEGIN:DAYLIGHT
TZOFFSETFROM:-0800
TZOFFSETTO:-0700
TZNAME:PDT
DTSTART:20260308T100000
END:DAYLIGHT
BEGIN:STANDARD
TZOFFSETFROM:-0700
TZOFFSETTO:-0800
TZNAME:PST
DTSTART:20261101T090000
END:STANDARD
BEGIN:DAYLIGHT
TZOFFSETFROM:-0800
TZOFFSETTO:-0700
TZNAME:PDT
DTSTART:20270314T100000
END:DAYLIGHT
BEGIN:STANDARD
TZOFFSETFROM:-0700
TZOFFSETTO:-0800
TZNAME:PST
DTSTART:20271107T090000
END:STANDARD
END:VTIMEZONE
BEGIN:VEVENT
DTSTART;TZID=America/Vancouver:20260715T000000
DTEND;TZID=America/Vancouver:20260718T235959
DTSTAMP:20260422T063712
CREATED:20260116T231846Z
LAST-MODIFIED:20260416T210123Z
UID:10000142-1784073600-1784419199@pentictonconventioncentre.com
SUMMARY:2026 Canadian National Square\, Round & Clog Dance Festival
DESCRIPTION:The 2026 Canadian National Square\, Round & Clog Dance Festival takes place July 15-18 at the Penticton Trade and Convention Centre. This is an international event with dancers\, callers\, and cuers coming from across Canada and all around the world. \n\n\n\nAlthough the festival will be geared primarily towards experienced dancers\, there will be times for the public to come and try out each of the dance forms. In addition\, public demonstrations will be held at various locations in the city. \n\n\n\nFestival registration is available online.
URL:https://pentictonconventioncentre.com/event/2026-canadian-national-square-round-clog-dance-festival/
ATTACH;FMTTYPE=image/png:https://pentictonconventioncentre.com/wp-content/uploads/2026/01/2026-Canadian-National-Square-Round-Clog-Dance-Festival-1920x1080-Website-Listing.png
END:VEVENT
END:VCALENDAR