BEGIN:VCALENDAR
VERSION:2.0
PRODID:-//Penticton Trade and Convention Centre - ECPv6.15.20//NONSGML v1.0//EN
CALSCALE:GREGORIAN
METHOD:PUBLISH
X-WR-CALNAME:Penticton Trade and Convention Centre
X-ORIGINAL-URL:https://pentictonconventioncentre.com
X-WR-CALDESC:Events for Penticton Trade and Convention Centre
REFRESH-INTERVAL;VALUE=DURATION:PT1H
X-Robots-Tag:noindex
X-PUBLISHED-TTL:PT1H
BEGIN:VTIMEZONE
TZID:America/Vancouver
BEGIN:DAYLIGHT
TZOFFSETFROM:-0800
TZOFFSETTO:-0700
TZNAME:PDT
DTSTART:20250309T100000
END:DAYLIGHT
BEGIN:STANDARD
TZOFFSETFROM:-0700
TZOFFSETTO:-0800
TZNAME:PST
DTSTART:20251102T090000
END:STANDARD
BEGIN:DAYLIGHT
TZOFFSETFROM:-0800
TZOFFSETTO:-0700
TZNAME:PDT
DTSTART:20260308T100000
END:DAYLIGHT
BEGIN:STANDARD
TZOFFSETFROM:-0700
TZOFFSETTO:-0800
TZNAME:PST
DTSTART:20261101T090000
END:STANDARD
BEGIN:DAYLIGHT
TZOFFSETFROM:-0800
TZOFFSETTO:-0700
TZNAME:PDT
DTSTART:20270314T100000
END:DAYLIGHT
BEGIN:STANDARD
TZOFFSETFROM:-0700
TZOFFSETTO:-0800
TZNAME:PST
DTSTART:20271107T090000
END:STANDARD
END:VTIMEZONE
BEGIN:VEVENT
DTSTART;TZID=America/Vancouver:20260529T000000
DTEND;TZID=America/Vancouver:20260531T235959
DTSTAMP:20260421T125853
CREATED:20250909T171012Z
LAST-MODIFIED:20250909T215230Z
UID:10000113-1780012800-1780271999@pentictonconventioncentre.com
SUMMARY:2026 Regional Convention of Jehovah's Witnesses
DESCRIPTION:The 2026 Regional Convention of Jehovah’s Witnesses takes place at the Penticton Trade and Convention Centre from May 29 to 31\, 2026. \n\n\n\nEvent Times \n\n\n\nFriday\, May 29: 9:20 a.m. to 3:40 p.m. Saturday\, May 30: 9:20 a.m. to 4:40 p.m.Sunday\, May 31: 9:20 a.m. to 3:55 p.m. \n\n\n\nVisit jw.org to see a complete program and schedule. 
URL:https://pentictonconventioncentre.com/event/2026-regional-convention-of-jehovahs-witnesses/
ATTACH;FMTTYPE=image/png:https://pentictonconventioncentre.com/wp-content/uploads/2025/09/26E29-31-PTCC-Regional-Convention-of-Jehovahs-Witnesses-1920x1080-px.png
END:VEVENT
END:VCALENDAR