BEGIN:VCALENDAR
VERSION:2.0
PRODID:-//Penticton Trade and Convention Centre - ECPv6.15.20//NONSGML v1.0//EN
CALSCALE:GREGORIAN
METHOD:PUBLISH
X-WR-CALNAME:Penticton Trade and Convention Centre
X-ORIGINAL-URL:https://pentictonconventioncentre.com
X-WR-CALDESC:Events for Penticton Trade and Convention Centre
REFRESH-INTERVAL;VALUE=DURATION:PT1H
X-Robots-Tag:noindex
X-PUBLISHED-TTL:PT1H
BEGIN:VTIMEZONE
TZID:America/Vancouver
BEGIN:DAYLIGHT
TZOFFSETFROM:-0800
TZOFFSETTO:-0700
TZNAME:PDT
DTSTART:20250309T100000
END:DAYLIGHT
BEGIN:STANDARD
TZOFFSETFROM:-0700
TZOFFSETTO:-0800
TZNAME:PST
DTSTART:20251102T090000
END:STANDARD
BEGIN:DAYLIGHT
TZOFFSETFROM:-0800
TZOFFSETTO:-0700
TZNAME:PDT
DTSTART:20260308T100000
END:DAYLIGHT
BEGIN:STANDARD
TZOFFSETFROM:-0700
TZOFFSETTO:-0800
TZNAME:PST
DTSTART:20261101T090000
END:STANDARD
BEGIN:DAYLIGHT
TZOFFSETFROM:-0800
TZOFFSETTO:-0700
TZNAME:PDT
DTSTART:20270314T100000
END:DAYLIGHT
BEGIN:STANDARD
TZOFFSETFROM:-0700
TZOFFSETTO:-0800
TZNAME:PST
DTSTART:20271107T090000
END:STANDARD
END:VTIMEZONE
BEGIN:VEVENT
DTSTART;TZID=America/Vancouver:20260419T100000
DTEND;TZID=America/Vancouver:20260419T150000
DTSTAMP:20260422T022619
CREATED:20251215T223139Z
LAST-MODIFIED:20260218T151247Z
UID:10000138-1776592800-1776610800@pentictonconventioncentre.com
SUMMARY:9th Annual TRUE Penticton Experience Market 2026
DESCRIPTION:Join Visit Penticton for the 9th Annual TRUE Penticton Experience Market! Everyone is welcome and invited to attend! \n\n\n\nThis not-to-be-missed FREE event will give you a unique opportunity to meet with local tourism businesses and attractions and get you Thinking about the Remarkable Unique Experiences that keep visitors coming back to Penticton year after year. Discover new adventures and experiences\, and reacquaint yourself with all of the amazing activities\, attractions\, accommodations\, restaurants\, wineries\, breweries\, cideries\, events and so much more happening in and around Penticton. \n\n\n\nAt the TRUE Penticton Experience Market: \n\n\n\n– Over 50 local businesses and experiences– Places to Play– Adventure Companies– Local Events & Festivals– Places to Stay– Food & Drink Samples – Local Wine and Craft Beer– Exclusive Visit Penticton Merchandise– Scavenger Hunt for Kids– Chance to win PRIZES! \n\n\n\nThis event is open to all and FREE to attend. Visit Penticton is supporting the Penticton Community Fridge & Pantry with a food drive as part of the TRUE Penticton event. So while admission is free\, food donations are encouraged to help support our community. \n\n\n\nFor tourism businesses interested in attending as an exhibitor\, please contact Ginger at membership@visitpenticton.com.
URL:https://pentictonconventioncentre.com/event/9th-annual-true-penticton-experience-market-2026/
ATTACH;FMTTYPE=image/jpeg:https://pentictonconventioncentre.com/wp-content/uploads/2025/12/1920-x-1080.jpg
END:VEVENT
END:VCALENDAR