BEGIN:VCALENDAR
VERSION:2.0
PRODID:-//Penticton Trade and Convention Centre - ECPv6.15.20//NONSGML v1.0//EN
CALSCALE:GREGORIAN
METHOD:PUBLISH
X-WR-CALNAME:Penticton Trade and Convention Centre
X-ORIGINAL-URL:https://pentictonconventioncentre.com
X-WR-CALDESC:Events for Penticton Trade and Convention Centre
REFRESH-INTERVAL;VALUE=DURATION:PT1H
X-Robots-Tag:noindex
X-PUBLISHED-TTL:PT1H
BEGIN:VTIMEZONE
TZID:America/Vancouver
BEGIN:DAYLIGHT
TZOFFSETFROM:-0800
TZOFFSETTO:-0700
TZNAME:PDT
DTSTART:20250309T100000
END:DAYLIGHT
BEGIN:STANDARD
TZOFFSETFROM:-0700
TZOFFSETTO:-0800
TZNAME:PST
DTSTART:20251102T090000
END:STANDARD
BEGIN:DAYLIGHT
TZOFFSETFROM:-0800
TZOFFSETTO:-0700
TZNAME:PDT
DTSTART:20260308T100000
END:DAYLIGHT
BEGIN:STANDARD
TZOFFSETFROM:-0700
TZOFFSETTO:-0800
TZNAME:PST
DTSTART:20261101T090000
END:STANDARD
BEGIN:DAYLIGHT
TZOFFSETFROM:-0800
TZOFFSETTO:-0700
TZNAME:PDT
DTSTART:20270314T100000
END:DAYLIGHT
BEGIN:STANDARD
TZOFFSETFROM:-0700
TZOFFSETTO:-0800
TZNAME:PST
DTSTART:20271107T090000
END:STANDARD
END:VTIMEZONE
BEGIN:VEVENT
DTSTART;TZID=America/Vancouver:20260416T080000
DTEND;TZID=America/Vancouver:20260416T120000
DTSTAMP:20260422T023514
CREATED:20260310T222301Z
LAST-MODIFIED:20260310T222303Z
UID:10000146-1776326400-1776340800@pentictonconventioncentre.com
SUMMARY:Building Envelope Mockup Expo – Energy Efficient Code-Ready Solutions
DESCRIPTION:The 2026 Builder Mock-up Fest is a unique\, half-day in-person training event providing flexible\, drop-in professional development for Part 9 builders interested in expanding their knowledge of high-performance construction. This training is specifically designed to support the adoption of Steps 4 and 5 of the BC Energy Step Code (ESC) and Emission Level 2+ of the Zero Carbon Step Code (ZCSC) requirements. \n\n\n\nThe Fest encourages guided and self-exploration through a series of hands-on educational stations. These stations showcase a mix of physical or digital building enclosure mock-ups with durable\, constructible\, and regionally appropriate solutions for higher-R-value assemblies and airtight detailing. \n\n\n\nDate: April 16\, 2026Time: 8am – 12noonCPD: 4 CPD available
URL:https://pentictonconventioncentre.com/event/building-envelope-mockup-expo-energy-efficient-code-ready-solutions/
ATTACH;FMTTYPE=image/png:https://pentictonconventioncentre.com/wp-content/uploads/2026/03/Building-Envelope-Mockup-Expo-–-Energy-Efficient-Code-Ready-Solutions.png
END:VEVENT
END:VCALENDAR