BEGIN:VCALENDAR
VERSION:2.0
PRODID:-//Penticton Trade and Convention Centre - ECPv6.15.20//NONSGML v1.0//EN
CALSCALE:GREGORIAN
METHOD:PUBLISH
X-ORIGINAL-URL:https://pentictonconventioncentre.com
X-WR-CALDESC:Events for Penticton Trade and Convention Centre
REFRESH-INTERVAL;VALUE=DURATION:PT1H
X-Robots-Tag:noindex
X-PUBLISHED-TTL:PT1H
BEGIN:VTIMEZONE
TZID:America/Vancouver
BEGIN:DAYLIGHT
TZOFFSETFROM:-0800
TZOFFSETTO:-0700
TZNAME:PDT
DTSTART:20240310T100000
END:DAYLIGHT
BEGIN:STANDARD
TZOFFSETFROM:-0700
TZOFFSETTO:-0800
TZNAME:PST
DTSTART:20241103T090000
END:STANDARD
BEGIN:DAYLIGHT
TZOFFSETFROM:-0800
TZOFFSETTO:-0700
TZNAME:PDT
DTSTART:20250309T100000
END:DAYLIGHT
BEGIN:STANDARD
TZOFFSETFROM:-0700
TZOFFSETTO:-0800
TZNAME:PST
DTSTART:20251102T090000
END:STANDARD
BEGIN:DAYLIGHT
TZOFFSETFROM:-0800
TZOFFSETTO:-0700
TZNAME:PDT
DTSTART:20260308T100000
END:DAYLIGHT
BEGIN:STANDARD
TZOFFSETFROM:-0700
TZOFFSETTO:-0800
TZNAME:PST
DTSTART:20261101T090000
END:STANDARD
END:VTIMEZONE
BEGIN:VEVENT
DTSTART;TZID=America/Vancouver:20251114T000000
DTEND;TZID=America/Vancouver:20251115T235959
DTSTAMP:20260422T095201
CREATED:20251015T172829Z
LAST-MODIFIED:20251103T225227Z
UID:10000119-1763078400-1763251199@pentictonconventioncentre.com
SUMMARY:2025 Rancho Vignola Harvest Sale
DESCRIPTION:The Rancho Vignola Harvest Sale is coming to the Penticton Trade & Convention Centre on November 14-15th! You’ll find a bountiful selection of New Crop Nuts\, Dried Fruits\, Seeds\, and more\, all available to sample and purchase. Plus\, explore their delicious Gourmet Gifts—perfect for the upcoming holiday season! \n\n\n\nJoin them for live recipe demos\, complimentary recipe cards\, and a prize draw. Mark your calendars and come share the harvest celebration with us. We can’t wait to see you there! \n\n\n\nEvent HoursFriday\, November 14: 9:00 AM – 7:00 PM Saturday\, November 15: 9:00 AM – 5:00 PM
URL:https://pentictonconventioncentre.com/event/2025-rancho-vignola-harvest-sale/
ATTACH;FMTTYPE=image/png:https://pentictonconventioncentre.com/wp-content/uploads/2025/10/Vers-2-2025-1920-x-1080-px-Penticton-TVHD-Harvest-Sales-.png
END:VEVENT
END:VCALENDAR