BEGIN:VCALENDAR
VERSION:2.0
PRODID:-//Penticton Trade and Convention Centre - ECPv6.15.20//NONSGML v1.0//EN
CALSCALE:GREGORIAN
METHOD:PUBLISH
X-ORIGINAL-URL:https://pentictonconventioncentre.com
X-WR-CALDESC:Events for Penticton Trade and Convention Centre
REFRESH-INTERVAL;VALUE=DURATION:PT1H
X-Robots-Tag:noindex
X-PUBLISHED-TTL:PT1H
BEGIN:VTIMEZONE
TZID:America/Vancouver
BEGIN:DAYLIGHT
TZOFFSETFROM:-0800
TZOFFSETTO:-0700
TZNAME:PDT
DTSTART:20240310T100000
END:DAYLIGHT
BEGIN:STANDARD
TZOFFSETFROM:-0700
TZOFFSETTO:-0800
TZNAME:PST
DTSTART:20241103T090000
END:STANDARD
BEGIN:DAYLIGHT
TZOFFSETFROM:-0800
TZOFFSETTO:-0700
TZNAME:PDT
DTSTART:20250309T100000
END:DAYLIGHT
BEGIN:STANDARD
TZOFFSETFROM:-0700
TZOFFSETTO:-0800
TZNAME:PST
DTSTART:20251102T090000
END:STANDARD
BEGIN:DAYLIGHT
TZOFFSETFROM:-0800
TZOFFSETTO:-0700
TZNAME:PDT
DTSTART:20260308T100000
END:DAYLIGHT
BEGIN:STANDARD
TZOFFSETFROM:-0700
TZOFFSETTO:-0800
TZNAME:PST
DTSTART:20261101T090000
END:STANDARD
END:VTIMEZONE
BEGIN:VEVENT
DTSTART;TZID=America/Vancouver:20251111T100000
DTEND;TZID=America/Vancouver:20251111T114500
DTSTAMP:20260422T095134
CREATED:20251104T173903Z
LAST-MODIFIED:20251105T211240Z
UID:10000122-1762855200-1762861500@pentictonconventioncentre.com
SUMMARY:2025 Remembrance Day Ceremony
DESCRIPTION:The 2025 Remembrance Day Ceremony will be held at the Penticton Trade and Convention Centre on Tuesday\, November 11\, 2025. \n\n\n\nThe Royal Canadian Legion Branch 40 march will start at 10:00 a.m. from Memorial Arena to the  Penticton Trade and Convention Centre\, followed by the main ceremony inside the facility.
URL:https://pentictonconventioncentre.com/event/2025-remembrance-day-ceremony/
ATTACH;FMTTYPE=image/png:https://pentictonconventioncentre.com/wp-content/uploads/2024/10/23K11-PTCC_REMEMBRANCE_DAY_320-×-230_EVENT_Side-1920-x-1080-px.png
END:VEVENT
END:VCALENDAR