BEGIN:VCALENDAR
VERSION:2.0
PRODID:-//Penticton Trade and Convention Centre - ECPv6.15.20//NONSGML v1.0//EN
CALSCALE:GREGORIAN
METHOD:PUBLISH
X-WR-CALNAME:Penticton Trade and Convention Centre
X-ORIGINAL-URL:https://pentictonconventioncentre.com
X-WR-CALDESC:Events for Penticton Trade and Convention Centre
REFRESH-INTERVAL;VALUE=DURATION:PT1H
X-Robots-Tag:noindex
X-PUBLISHED-TTL:PT1H
BEGIN:VTIMEZONE
TZID:America/Vancouver
BEGIN:DAYLIGHT
TZOFFSETFROM:-0800
TZOFFSETTO:-0700
TZNAME:PDT
DTSTART:20240310T100000
END:DAYLIGHT
BEGIN:STANDARD
TZOFFSETFROM:-0700
TZOFFSETTO:-0800
TZNAME:PST
DTSTART:20241103T090000
END:STANDARD
BEGIN:DAYLIGHT
TZOFFSETFROM:-0800
TZOFFSETTO:-0700
TZNAME:PDT
DTSTART:20250309T100000
END:DAYLIGHT
BEGIN:STANDARD
TZOFFSETFROM:-0700
TZOFFSETTO:-0800
TZNAME:PST
DTSTART:20251102T090000
END:STANDARD
BEGIN:DAYLIGHT
TZOFFSETFROM:-0800
TZOFFSETTO:-0700
TZNAME:PDT
DTSTART:20260308T100000
END:DAYLIGHT
BEGIN:STANDARD
TZOFFSETFROM:-0700
TZOFFSETTO:-0800
TZNAME:PST
DTSTART:20261101T090000
END:STANDARD
END:VTIMEZONE
BEGIN:VEVENT
DTSTART;TZID=America/Vancouver:20251101T173000
DTEND;TZID=America/Vancouver:20251101T173000
DTSTAMP:20260421T064749
CREATED:20250620T211053Z
LAST-MODIFIED:20251030T145617Z
UID:10000093-1762018200-1762018200@pentictonconventioncentre.com
SUMMARY:SOLD OUT - 2025 Inspiring Hope Gala for the South Okanagan Women in Need Society
DESCRIPTION:Inspiring Hope – An Evening of Connection and ChangePresented by the Penticton Foundry \n\n\n\nJoin us for a night that will lift your heart and ignite your spirit. Inspiring Hope to support the South Okanagan Women in Need Society is more than an event—it’s a powerful celebration of community\, compassion\, and the transformative change we can create together. \n\n\n\nThis unforgettable evening brings together our community to support women and children who are rebuilding their lives with courage and strength. \n\n\n\nEnjoy a vibrant reception with food and drink pairing stations that will tantalize your taste buds\, all while soaking in the sounds of live music. Capture memories at our photo booth\, then settle in for an interactive dining experience unlike any other. \n\n\n\nThroughout the evening\, you’ll hear inspiring stories of hope—real lives changed because of your generosity. You’ll laugh\, you may cry\, but most of all\, you’ll feel the deep impact of standing together for a better future. \n\n\n\nTake part in our silent and live auctions\, Fund a Need\, and some fun games to raise critical funds for the women and children SOWINS serves every day. \n\n\n\nYour presence matters. Your support changes lives. \n\n\n\nCome be a part of something truly meaningful. Together\, we can inspire hope where it’s needed most. \n\n\n\nTickets are SOLD OUT.
URL:https://pentictonconventioncentre.com/event/2025-inspiring-hope-gala-for-the-south-okanagan-women-in-need-society/
ATTACH;FMTTYPE=image/png:https://pentictonconventioncentre.com/wp-content/uploads/2025/06/Inspiring-Hope-Gala-Updated-1920x1080-1.png
END:VEVENT
END:VCALENDAR