BEGIN:VCALENDAR
VERSION:2.0
PRODID:-//Penticton Trade and Convention Centre - ECPv6.15.20//NONSGML v1.0//EN
CALSCALE:GREGORIAN
METHOD:PUBLISH
X-WR-CALNAME:Penticton Trade and Convention Centre
X-ORIGINAL-URL:https://pentictonconventioncentre.com
X-WR-CALDESC:Events for Penticton Trade and Convention Centre
REFRESH-INTERVAL;VALUE=DURATION:PT1H
X-Robots-Tag:noindex
X-PUBLISHED-TTL:PT1H
BEGIN:VTIMEZONE
TZID:America/Vancouver
BEGIN:DAYLIGHT
TZOFFSETFROM:-0800
TZOFFSETTO:-0700
TZNAME:PDT
DTSTART:20240310T100000
END:DAYLIGHT
BEGIN:STANDARD
TZOFFSETFROM:-0700
TZOFFSETTO:-0800
TZNAME:PST
DTSTART:20241103T090000
END:STANDARD
BEGIN:DAYLIGHT
TZOFFSETFROM:-0800
TZOFFSETTO:-0700
TZNAME:PDT
DTSTART:20250309T100000
END:DAYLIGHT
BEGIN:STANDARD
TZOFFSETFROM:-0700
TZOFFSETTO:-0800
TZNAME:PST
DTSTART:20251102T090000
END:STANDARD
BEGIN:DAYLIGHT
TZOFFSETFROM:-0800
TZOFFSETTO:-0700
TZNAME:PDT
DTSTART:20260308T100000
END:DAYLIGHT
BEGIN:STANDARD
TZOFFSETFROM:-0700
TZOFFSETTO:-0800
TZNAME:PST
DTSTART:20261101T090000
END:STANDARD
END:VTIMEZONE
BEGIN:VEVENT
DTSTART;TZID=America/Vancouver:20250823T080000
DTEND;TZID=America/Vancouver:20250823T200000
DTSTAMP:20260422T141136
CREATED:20250618T222709Z
LAST-MODIFIED:20250618T222802Z
UID:10000098-1755936000-1755979200@pentictonconventioncentre.com
SUMMARY:Voting Day: 2025 Local Government By-Election
DESCRIPTION:2025 Local Government By-Election Voting DaySaturday\, August 23\, 20258:00 am – 8:00 pmPenticton Trade and Convention Centre273 Power Street \n\n\n\nThere is no need to pre-register to vote as the City of Penticton will be using the Provincial Voters List\, updated in January 2025.  If you are not on the list\, you will be able to register at the time of voting. Resident electors must produce two (2) pieces of identification (at least one with a signature). Picture identification is not necessary. The identification must prove both residency and identity. \n\n\n\nNon-resident property electors must produce two (2) pieces of identification (at least one with a signature) to prove identity\, proof that they are entitled to register in relation to the property (ownership)\, and\, if there is more than one owner of the property\, written consent from the majority of the property owners. \n\n\n\nAt the time of voting you will be required to make a declaration that you meet the following qualification requirements: \n\n\n\n\n18 years of age or older on general voting day (August 23\, 2025)\n\n\n\nCanadian citizen\n\n\n\nResident of BC for at least 6 months immediately preceding the day of registration\n\n\n\nCurrent resident of Penticton\, OR registered owner of real property in the City of Penticton for at least 30 days immediately preceding the day of registration\, and not disqualified under the Local Government Act or any other enactment from voting in an election or otherwise disqualified by law.
URL:https://pentictonconventioncentre.com/event/voting-day-2025-local-government-by-election-2/
ATTACH;FMTTYPE=image/png:https://pentictonconventioncentre.com/wp-content/uploads/2025/02/Voting-Day-2025-Local-Government-By-Election.png
END:VEVENT
END:VCALENDAR