BEGIN:VCALENDAR
VERSION:2.0
PRODID:-//Penticton Trade and Convention Centre - ECPv6.15.20//NONSGML v1.0//EN
CALSCALE:GREGORIAN
METHOD:PUBLISH
X-ORIGINAL-URL:https://pentictonconventioncentre.com
X-WR-CALDESC:Events for Penticton Trade and Convention Centre
REFRESH-INTERVAL;VALUE=DURATION:PT1H
X-Robots-Tag:noindex
X-PUBLISHED-TTL:PT1H
BEGIN:VTIMEZONE
TZID:America/Vancouver
BEGIN:DAYLIGHT
TZOFFSETFROM:-0800
TZOFFSETTO:-0700
TZNAME:PDT
DTSTART:20240310T100000
END:DAYLIGHT
BEGIN:STANDARD
TZOFFSETFROM:-0700
TZOFFSETTO:-0800
TZNAME:PST
DTSTART:20241103T090000
END:STANDARD
BEGIN:DAYLIGHT
TZOFFSETFROM:-0800
TZOFFSETTO:-0700
TZNAME:PDT
DTSTART:20250309T100000
END:DAYLIGHT
BEGIN:STANDARD
TZOFFSETFROM:-0700
TZOFFSETTO:-0800
TZNAME:PST
DTSTART:20251102T090000
END:STANDARD
BEGIN:DAYLIGHT
TZOFFSETFROM:-0800
TZOFFSETTO:-0700
TZNAME:PDT
DTSTART:20260308T100000
END:DAYLIGHT
BEGIN:STANDARD
TZOFFSETFROM:-0700
TZOFFSETTO:-0800
TZNAME:PST
DTSTART:20261101T090000
END:STANDARD
END:VTIMEZONE
BEGIN:VEVENT
DTSTART;TZID=America/Vancouver:20250718T000000
DTEND;TZID=America/Vancouver:20250720T235959
DTSTAMP:20260422T060147
CREATED:20250716T222446Z
LAST-MODIFIED:20250717T165004Z
UID:10000105-1752796800-1753055999@pentictonconventioncentre.com
SUMMARY:Pow Wow Between the Lakes Presents: Indigenous Arts Market
DESCRIPTION:The Pow Wow Between the Lakes is returning to the South Okanagan Events Centre (SOEC) from July 18 to 20\, with the Indigenous Arts Market taking place at the Penticton Trade and Convention Centre.  \n\n\n\nThe Indigenous Arts Market – Event Hours  \n\n\n\nThe Indigenous Arts Market is open to the general public with over 50 vendor booths. There is no admission fee to attend the market.  \n\n\n\n\nFriday\, July 18: 3:00 PM – 9:00 PM*\n\n\n\nSaturday\, July 19: 9:00 AM – 9:00 PM*\n\n\n\nSunday\, July 20: 9:00 AM – 3:00 PM*\n\n\n\n\n*End time subject to change. \n\n\n\n\n\n\n\nPow Wow Between the Lakes – Ticket Information \n\n\n\nIf you are interested in attending the Pow Wow Between the Lakes at the South Okanagan Events Centre\, tickets are available online at ValleyFirstTix.com or in-person at the Valley First Box Office at the SOEC. \n\n\n\nThe remote Valley First Box Office will be set up at the Convention Centre during the following hours: \n\n\n\n\nFriday\, July 18: 5:00 PM-8:00 PM\n\n\n\nSaturday\, July 19: 12:00-8:00 PM\n\n\n\nSunday\, July 20: 11:00 AM-2:00 PM\n\n\n\n\nTicket Prices: \n\n\n\n\nDay Pass: $10.00*\n\n\n\nWeekend Pass: $25.00*\n\n\n\n\n*Children 5 years of age and younger are free. Additional fees apply online. \n\n\n\n\nMore Information
URL:https://pentictonconventioncentre.com/event/pow-wow-between-the-lakes-presents-indigenous-arts-market/
ATTACH;FMTTYPE=image/png:https://pentictonconventioncentre.com/wp-content/uploads/2025/07/Four-Seasons-Cultural-Society-10th-Anniversary-1920-x-1080-px-2.png
END:VEVENT
END:VCALENDAR