BEGIN:VCALENDAR
VERSION:2.0
PRODID:-//Penticton Trade and Convention Centre - ECPv6.15.20//NONSGML v1.0//EN
CALSCALE:GREGORIAN
METHOD:PUBLISH
X-ORIGINAL-URL:https://pentictonconventioncentre.com
X-WR-CALDESC:Events for Penticton Trade and Convention Centre
REFRESH-INTERVAL;VALUE=DURATION:PT1H
X-Robots-Tag:noindex
X-PUBLISHED-TTL:PT1H
BEGIN:VTIMEZONE
TZID:America/Vancouver
BEGIN:DAYLIGHT
TZOFFSETFROM:-0800
TZOFFSETTO:-0700
TZNAME:PDT
DTSTART:20240310T100000
END:DAYLIGHT
BEGIN:STANDARD
TZOFFSETFROM:-0700
TZOFFSETTO:-0800
TZNAME:PST
DTSTART:20241103T090000
END:STANDARD
BEGIN:DAYLIGHT
TZOFFSETFROM:-0800
TZOFFSETTO:-0700
TZNAME:PDT
DTSTART:20250309T100000
END:DAYLIGHT
BEGIN:STANDARD
TZOFFSETFROM:-0700
TZOFFSETTO:-0800
TZNAME:PST
DTSTART:20251102T090000
END:STANDARD
BEGIN:DAYLIGHT
TZOFFSETFROM:-0800
TZOFFSETTO:-0700
TZNAME:PDT
DTSTART:20260308T100000
END:DAYLIGHT
BEGIN:STANDARD
TZOFFSETFROM:-0700
TZOFFSETTO:-0800
TZNAME:PST
DTSTART:20261101T090000
END:STANDARD
END:VTIMEZONE
BEGIN:VEVENT
DTSTART;TZID=America/Vancouver:20250603T000000
DTEND;TZID=America/Vancouver:20250606T235959
DTSTAMP:20260422T165543
CREATED:20250513T221451Z
LAST-MODIFIED:20250513T221452Z
UID:10000087-1748908800-1749254399@pentictonconventioncentre.com
SUMMARY:2025 Educational Facility Managers Association of BC Conference\, AGM & Trade Show
DESCRIPTION:Since 1964\, Educational Facility Managers from school districts around BC have been meeting to provide support to one another and share ideas. Members come from a variety of backgrounds with the common goal of maintaining a high standard of professional knowledge and skill as well as safety. \n\n\n\nThe Educational Facility Managers Association of BC (EFMA) returns to the Penticton Trade and Convention Centre for their 59th Annual Conference\, AGM and and Trade Show from June 3 to 6\, 2025. \n\n\n\nPlease note: For registered exhibitors and delegates only.
URL:https://pentictonconventioncentre.com/event/2025-educational-facility-managers-association-of-bc-conference-agm-trade-show/
ATTACH;FMTTYPE=image/png:https://pentictonconventioncentre.com/wp-content/uploads/2025/05/EFMA-Conference-AGM-and-Trade-Show.png
END:VEVENT
END:VCALENDAR