BEGIN:VCALENDAR
VERSION:2.0
PRODID:-//Penticton Trade and Convention Centre - ECPv6.15.20//NONSGML v1.0//EN
CALSCALE:GREGORIAN
METHOD:PUBLISH
X-ORIGINAL-URL:https://pentictonconventioncentre.com
X-WR-CALDESC:Events for Penticton Trade and Convention Centre
REFRESH-INTERVAL;VALUE=DURATION:PT1H
X-Robots-Tag:noindex
X-PUBLISHED-TTL:PT1H
BEGIN:VTIMEZONE
TZID:America/Vancouver
BEGIN:DAYLIGHT
TZOFFSETFROM:-0800
TZOFFSETTO:-0700
TZNAME:PDT
DTSTART:20240310T100000
END:DAYLIGHT
BEGIN:STANDARD
TZOFFSETFROM:-0700
TZOFFSETTO:-0800
TZNAME:PST
DTSTART:20241103T090000
END:STANDARD
BEGIN:DAYLIGHT
TZOFFSETFROM:-0800
TZOFFSETTO:-0700
TZNAME:PDT
DTSTART:20250309T100000
END:DAYLIGHT
BEGIN:STANDARD
TZOFFSETFROM:-0700
TZOFFSETTO:-0800
TZNAME:PST
DTSTART:20251102T090000
END:STANDARD
BEGIN:DAYLIGHT
TZOFFSETFROM:-0800
TZOFFSETTO:-0700
TZNAME:PDT
DTSTART:20260308T100000
END:DAYLIGHT
BEGIN:STANDARD
TZOFFSETFROM:-0700
TZOFFSETTO:-0800
TZNAME:PST
DTSTART:20261101T090000
END:STANDARD
END:VTIMEZONE
BEGIN:VEVENT
DTSTART;TZID=America/Vancouver:20250220T000000
DTEND;TZID=America/Vancouver:20250222T235959
DTSTAMP:20260422T230148
CREATED:20250128T231507Z
LAST-MODIFIED:20250221T171518Z
UID:10000053-1740009600-1740268799@pentictonconventioncentre.com
SUMMARY:2025 Wild Sheep Society of BC Salute to Conservation & Mountain Hunting Expo
DESCRIPTION:Join them at Canada’s largest one-stop shop for Mountain Hunting. Through their Sheep Hunter University\, you will get the best advice available from experts. \n\n\n\nThey will offer a full banquet Friday and Saturday night sponsored by SITKA Gear complete with live and silent auctions on both evenings. Of course Friday we will have our Great Canadian Backpack Race sponsored by Stone Glacier\, and Saturday Life Member Breakfast sponsored by Yeti and Gunwerks. \n\n\n\nPlease note: This event is for registered attendees. \n\n\n\n\nParking Map
URL:https://pentictonconventioncentre.com/event/2025-wild-sheep-society-of-bc-salute-to-conservation-mountain-hunting-expo/
ATTACH;FMTTYPE=image/jpeg:https://pentictonconventioncentre.com/wp-content/uploads/2024/11/2025-Wild-Sheep-Society-of-BC.jpg
END:VEVENT
END:VCALENDAR