BEGIN:VCALENDAR
VERSION:2.0
PRODID:-//Penticton Trade and Convention Centre - ECPv6.15.20//NONSGML v1.0//EN
CALSCALE:GREGORIAN
METHOD:PUBLISH
X-WR-CALNAME:Penticton Trade and Convention Centre
X-ORIGINAL-URL:https://pentictonconventioncentre.com
X-WR-CALDESC:Events for Penticton Trade and Convention Centre
REFRESH-INTERVAL;VALUE=DURATION:PT1H
X-Robots-Tag:noindex
X-PUBLISHED-TTL:PT1H
BEGIN:VTIMEZONE
TZID:America/Vancouver
BEGIN:DAYLIGHT
TZOFFSETFROM:-0800
TZOFFSETTO:-0700
TZNAME:PDT
DTSTART:20230312T100000
END:DAYLIGHT
BEGIN:STANDARD
TZOFFSETFROM:-0700
TZOFFSETTO:-0800
TZNAME:PST
DTSTART:20231105T090000
END:STANDARD
BEGIN:DAYLIGHT
TZOFFSETFROM:-0800
TZOFFSETTO:-0700
TZNAME:PDT
DTSTART:20240310T100000
END:DAYLIGHT
BEGIN:STANDARD
TZOFFSETFROM:-0700
TZOFFSETTO:-0800
TZNAME:PST
DTSTART:20241103T090000
END:STANDARD
BEGIN:DAYLIGHT
TZOFFSETFROM:-0800
TZOFFSETTO:-0700
TZNAME:PDT
DTSTART:20250309T100000
END:DAYLIGHT
BEGIN:STANDARD
TZOFFSETFROM:-0700
TZOFFSETTO:-0800
TZNAME:PST
DTSTART:20251102T090000
END:STANDARD
END:VTIMEZONE
BEGIN:VEVENT
DTSTART;TZID=America/Vancouver:20241118T000000
DTEND;TZID=America/Vancouver:20241121T235959
DTSTAMP:20260423T031201
CREATED:20241022T165520Z
LAST-MODIFIED:20241022T194437Z
UID:10000051-1731888000-1732233599@pentictonconventioncentre.com
SUMMARY:2024 Building Resilient Communities Conference
DESCRIPTION:The Building Resilient Communities Conference is coming to Penticton from November 18-21\, 2024! This dynamic event brings together leaders\, innovators\, and changemakers to foster collaboration and inspire new ways to strengthen and support resilient communities. With a focus on transformative ideas and inclusive dialogue\, it’s the perfect platform for connecting diverse perspectives and driving meaningful change. \n\n\n\nPlease note: This event is for registered delegates and exhibitors only.
URL:https://pentictonconventioncentre.com/event/building-resilient-communities-conference/
ATTACH;FMTTYPE=image/png:https://pentictonconventioncentre.com/wp-content/uploads/2024/10/Building-Resilient-Communities-Conference.png
END:VEVENT
END:VCALENDAR