BEGIN:VCALENDAR
VERSION:2.0
PRODID:-//Penticton Trade and Convention Centre - ECPv6.15.20//NONSGML v1.0//EN
CALSCALE:GREGORIAN
METHOD:PUBLISH
X-ORIGINAL-URL:https://pentictonconventioncentre.com
X-WR-CALDESC:Events for Penticton Trade and Convention Centre
REFRESH-INTERVAL;VALUE=DURATION:PT1H
X-Robots-Tag:noindex
X-PUBLISHED-TTL:PT1H
BEGIN:VTIMEZONE
TZID:America/Vancouver
BEGIN:DAYLIGHT
TZOFFSETFROM:-0800
TZOFFSETTO:-0700
TZNAME:PDT
DTSTART:20230312T100000
END:DAYLIGHT
BEGIN:STANDARD
TZOFFSETFROM:-0700
TZOFFSETTO:-0800
TZNAME:PST
DTSTART:20231105T090000
END:STANDARD
BEGIN:DAYLIGHT
TZOFFSETFROM:-0800
TZOFFSETTO:-0700
TZNAME:PDT
DTSTART:20240310T100000
END:DAYLIGHT
BEGIN:STANDARD
TZOFFSETFROM:-0700
TZOFFSETTO:-0800
TZNAME:PST
DTSTART:20241103T090000
END:STANDARD
BEGIN:DAYLIGHT
TZOFFSETFROM:-0800
TZOFFSETTO:-0700
TZNAME:PDT
DTSTART:20250309T100000
END:DAYLIGHT
BEGIN:STANDARD
TZOFFSETFROM:-0700
TZOFFSETTO:-0800
TZNAME:PST
DTSTART:20251102T090000
END:STANDARD
END:VTIMEZONE
BEGIN:VEVENT
DTSTART;TZID=America/Vancouver:20241115T000000
DTEND;TZID=America/Vancouver:20241116T235959
DTSTAMP:20260423T031340
CREATED:20241018T204913Z
LAST-MODIFIED:20241022T194505Z
UID:10000046-1731628800-1731801599@pentictonconventioncentre.com
SUMMARY:2024 Rancho Vignola Harvest Sale
DESCRIPTION:Get ready\, Penticton! Our Harvest Sale is coming to the Penticton Trade & Convention Centre on November 15-16th! 🍂 You’ll find a bountiful selection of fresh from harvest New Crop Nuts\, Dried Fruits\, Seeds\, and more\, all available to sample and purchase. Plus\, explore our delicious Gourmet Gifts—perfect for the upcoming holiday season! \n\n\n\nJoin us for recipe demos\, giveaways\, and fun for the whole family! Mark your calendars and come share the harvest celebration with us. We can’t wait to see you there! 💚 \n\n\n\nHours \n\n\n\nFriday\, November 159:00AM – 7:00PMSaturday\, November 169:00AM – 5:00PM\n\n\n\n \n\n\n\n\n\n\n\nFor vendor information and events\, please visit: https://www.ranchovignola.com/ \n\n\n\n\nMore Information
URL:https://pentictonconventioncentre.com/event/rancho-vignola-havest-2024/
ATTACH;FMTTYPE=image/png:https://pentictonconventioncentre.com/wp-content/uploads/2024/10/Copy-of-23K17-18-PTCC-Rancho-1200x772-EventHeader.png
END:VEVENT
END:VCALENDAR