BEGIN:VCALENDAR
VERSION:2.0
PRODID:-//Penticton Trade and Convention Centre - ECPv6.15.20//NONSGML v1.0//EN
CALSCALE:GREGORIAN
METHOD:PUBLISH
X-ORIGINAL-URL:https://pentictonconventioncentre.com
X-WR-CALDESC:Events for Penticton Trade and Convention Centre
REFRESH-INTERVAL;VALUE=DURATION:PT1H
X-Robots-Tag:noindex
X-PUBLISHED-TTL:PT1H
BEGIN:VTIMEZONE
TZID:America/Vancouver
BEGIN:DAYLIGHT
TZOFFSETFROM:-0800
TZOFFSETTO:-0700
TZNAME:PDT
DTSTART:20230312T100000
END:DAYLIGHT
BEGIN:STANDARD
TZOFFSETFROM:-0700
TZOFFSETTO:-0800
TZNAME:PST
DTSTART:20231105T090000
END:STANDARD
BEGIN:DAYLIGHT
TZOFFSETFROM:-0800
TZOFFSETTO:-0700
TZNAME:PDT
DTSTART:20240310T100000
END:DAYLIGHT
BEGIN:STANDARD
TZOFFSETFROM:-0700
TZOFFSETTO:-0800
TZNAME:PST
DTSTART:20241103T090000
END:STANDARD
BEGIN:DAYLIGHT
TZOFFSETFROM:-0800
TZOFFSETTO:-0700
TZNAME:PDT
DTSTART:20250309T100000
END:DAYLIGHT
BEGIN:STANDARD
TZOFFSETFROM:-0700
TZOFFSETTO:-0800
TZNAME:PST
DTSTART:20251102T090000
END:STANDARD
END:VTIMEZONE
BEGIN:VEVENT
DTSTART;TZID=America/Vancouver:20241111T100000
DTEND;TZID=America/Vancouver:20241111T114500
DTSTAMP:20260423T031403
CREATED:20241030T231643Z
LAST-MODIFIED:20251103T161100Z
UID:10000049-1731319200-1731325500@pentictonconventioncentre.com
SUMMARY:2024 Remembrance Day Ceremony
DESCRIPTION:The Remembrance Day Ceremony will be held at the Penticton Trade and Convention Centre on Monday\, Nov. 11\, 2024. \n\n\n\nThe Royal Canadian Legion Branch 40 march will form at Penticton Trade and Convention Centre parking lot at 10:00 a.m.\, followed by the main ceremony inside the facility at 10:45 a.m. Doors open at 9:00 AM. \n\n\n\nAlternatively\, an outdoor ceremony will take place at Veteran’s Park in the 100 block of Main Street at 10:30 a.m.
URL:https://pentictonconventioncentre.com/event/remembrance-day-ceremony/
ATTACH;FMTTYPE=image/png:https://pentictonconventioncentre.com/wp-content/uploads/2024/10/23K11-PTCC_REMEMBRANCE_DAY_320-×-230_EVENT_Side-1920-x-1080-px.png
END:VEVENT
END:VCALENDAR