BEGIN:VCALENDAR
VERSION:2.0
PRODID:-//Penticton Trade and Convention Centre - ECPv6.15.20//NONSGML v1.0//EN
CALSCALE:GREGORIAN
METHOD:PUBLISH
X-WR-CALNAME:Penticton Trade and Convention Centre
X-ORIGINAL-URL:https://pentictonconventioncentre.com
X-WR-CALDESC:Events for Penticton Trade and Convention Centre
REFRESH-INTERVAL;VALUE=DURATION:PT1H
X-Robots-Tag:noindex
X-PUBLISHED-TTL:PT1H
BEGIN:VTIMEZONE
TZID:America/Vancouver
BEGIN:DAYLIGHT
TZOFFSETFROM:-0800
TZOFFSETTO:-0700
TZNAME:PDT
DTSTART:20230312T100000
END:DAYLIGHT
BEGIN:STANDARD
TZOFFSETFROM:-0700
TZOFFSETTO:-0800
TZNAME:PST
DTSTART:20231105T090000
END:STANDARD
BEGIN:DAYLIGHT
TZOFFSETFROM:-0800
TZOFFSETTO:-0700
TZNAME:PDT
DTSTART:20240310T100000
END:DAYLIGHT
BEGIN:STANDARD
TZOFFSETFROM:-0700
TZOFFSETTO:-0800
TZNAME:PST
DTSTART:20241103T090000
END:STANDARD
BEGIN:DAYLIGHT
TZOFFSETFROM:-0800
TZOFFSETTO:-0700
TZNAME:PDT
DTSTART:20250309T100000
END:DAYLIGHT
BEGIN:STANDARD
TZOFFSETFROM:-0700
TZOFFSETTO:-0800
TZNAME:PST
DTSTART:20251102T090000
END:STANDARD
END:VTIMEZONE
BEGIN:VEVENT
DTSTART;TZID=America/Vancouver:20241102T173000
DTEND;TZID=America/Vancouver:20241102T173000
DTSTAMP:20260420T181342
CREATED:20240726T223412Z
LAST-MODIFIED:20241021T213507Z
UID:10000036-1730568600-1730568600@pentictonconventioncentre.com
SUMMARY:SOLD OUT - Inspiring Hope - South Okanagan Women in Need Society's First Annual Gala
DESCRIPTION:Please join South Okanagan Women In Need Society to ignite hope for women\, youth\, and children in our community who rely on our support. SOWINS’ first annual gala is SOLD OUT. It takes place on Saturday\, November 2\, 2024 at the Penticton Trade and Convention Centre. \n\n\n\nThis special evening features a champagne reception\, live music\, photo booths\, interactive dining\, a DJ\, and exciting surprises you won’t want to miss! \n\n\n\nMost importantly\, we will share stories of inspiration and impact to raise much needed funds to provide life saving support services in our community. \n\n\n\nThis event is SOLD OUT. Due to overwhelming support this years Inspiring Hope First Annual Gala is sold out. Thank you to everyone for supporting SOWINS’ inaugural event. \n\n\n\nDo not miss out on next year’s Gala (Date TBA)\, visit Inspiring Hope Gala.Please note: This event will have table seating\, seating placement will be arranged by organizers and will be presented to guests upon arrival.
URL:https://pentictonconventioncentre.com/event/inspiring-hope-south-okanagan-women-in-need-societys-first-annual-gala/
ATTACH;FMTTYPE=image/jpeg:https://pentictonconventioncentre.com/wp-content/uploads/2024/07/galabanner_SoldOut_No-LearnMore-1920x1080-1.jpg
END:VEVENT
END:VCALENDAR