BEGIN:VCALENDAR
VERSION:2.0
PRODID:-//Penticton Trade and Convention Centre - ECPv6.15.20//NONSGML v1.0//EN
CALSCALE:GREGORIAN
METHOD:PUBLISH
X-ORIGINAL-URL:https://pentictonconventioncentre.com
X-WR-CALDESC:Events for Penticton Trade and Convention Centre
REFRESH-INTERVAL;VALUE=DURATION:PT1H
X-Robots-Tag:noindex
X-PUBLISHED-TTL:PT1H
BEGIN:VTIMEZONE
TZID:America/Vancouver
BEGIN:DAYLIGHT
TZOFFSETFROM:-0800
TZOFFSETTO:-0700
TZNAME:PDT
DTSTART:20230312T100000
END:DAYLIGHT
BEGIN:STANDARD
TZOFFSETFROM:-0700
TZOFFSETTO:-0800
TZNAME:PST
DTSTART:20231105T090000
END:STANDARD
BEGIN:DAYLIGHT
TZOFFSETFROM:-0800
TZOFFSETTO:-0700
TZNAME:PDT
DTSTART:20240310T100000
END:DAYLIGHT
BEGIN:STANDARD
TZOFFSETFROM:-0700
TZOFFSETTO:-0800
TZNAME:PST
DTSTART:20241103T090000
END:STANDARD
BEGIN:DAYLIGHT
TZOFFSETFROM:-0800
TZOFFSETTO:-0700
TZNAME:PDT
DTSTART:20250309T100000
END:DAYLIGHT
BEGIN:STANDARD
TZOFFSETFROM:-0700
TZOFFSETTO:-0800
TZNAME:PST
DTSTART:20251102T090000
END:STANDARD
END:VTIMEZONE
BEGIN:VEVENT
DTSTART;TZID=America/Vancouver:20241101T170000
DTEND;TZID=America/Vancouver:20241101T210000
DTSTAMP:20260423T031323
CREATED:20241101T131631Z
LAST-MODIFIED:20241101T131632Z
UID:10000048-1730480400-1730494800@pentictonconventioncentre.com
SUMMARY:Halloween Roller Rink Penticton
DESCRIPTION:Penticton Roller Skate is back in the Penticton Trade & Convention Centre for our HALLOWEEN ROLLER RINK! \n\n\n\nJoin us for some great family fun! Spectators are free! Come in your best costume and take photos at the photo booth\, enter the costume contest\, and get some sweet Halloween treats! We will have a DJ on site for this skate party! \n\n\n\nRoller Rink Hours \n\n\n\n5PM – 7PMAll Ages Skate7PM – 9PMAges 16+ Skate\n\n\n\nAdmission \n\n\n\n$15.00 All Ages | $5.00 Roller Skate Rentals  \n\n\n\nRoller skates are available in sizes J10 to A13. Skaters are welcome to use their own roller skates or blades.  \n\n\n\n\n\n\n\nWAIVERS: If you have not signed a PRS waiver in the past\, please sign up using our digital waiver to speed up your check in time!https://waiver.smartwaiver.com/w/rckc4uaqthdmlcncrglpqp/web/
URL:https://pentictonconventioncentre.com/event/halloween-roller-rink-penticton/
ATTACH;FMTTYPE=image/png:https://pentictonconventioncentre.com/wp-content/uploads/2024/10/Untitled-1920-x-1080-px-1.png
END:VEVENT
END:VCALENDAR