BEGIN:VCALENDAR
VERSION:2.0
PRODID:-//Penticton Trade and Convention Centre - ECPv6.15.20//NONSGML v1.0//EN
CALSCALE:GREGORIAN
METHOD:PUBLISH
X-ORIGINAL-URL:https://pentictonconventioncentre.com
X-WR-CALDESC:Events for Penticton Trade and Convention Centre
REFRESH-INTERVAL;VALUE=DURATION:PT1H
X-Robots-Tag:noindex
X-PUBLISHED-TTL:PT1H
BEGIN:VTIMEZONE
TZID:America/Vancouver
BEGIN:DAYLIGHT
TZOFFSETFROM:-0800
TZOFFSETTO:-0700
TZNAME:PDT
DTSTART:20230312T100000
END:DAYLIGHT
BEGIN:STANDARD
TZOFFSETFROM:-0700
TZOFFSETTO:-0800
TZNAME:PST
DTSTART:20231105T090000
END:STANDARD
BEGIN:DAYLIGHT
TZOFFSETFROM:-0800
TZOFFSETTO:-0700
TZNAME:PDT
DTSTART:20240310T100000
END:DAYLIGHT
BEGIN:STANDARD
TZOFFSETFROM:-0700
TZOFFSETTO:-0800
TZNAME:PST
DTSTART:20241103T090000
END:STANDARD
BEGIN:DAYLIGHT
TZOFFSETFROM:-0800
TZOFFSETTO:-0700
TZNAME:PDT
DTSTART:20250309T100000
END:DAYLIGHT
BEGIN:STANDARD
TZOFFSETFROM:-0700
TZOFFSETTO:-0800
TZNAME:PST
DTSTART:20251102T090000
END:STANDARD
END:VTIMEZONE
BEGIN:VEVENT
DTSTART;TZID=America/Vancouver:20241029T160000
DTEND;TZID=America/Vancouver:20241029T190000
DTSTAMP:20260423T031232
CREATED:20241011T212738Z
LAST-MODIFIED:20241011T215555Z
UID:10000045-1730217600-1730228400@pentictonconventioncentre.com
SUMMARY:City of Penticton Council Open House
DESCRIPTION:The City of Penticton invites residents to attend a Council-hosted Open House to discuss key priorities\, including public safety and housing\, and provide feedback on the proposed 2025 budget. This drop-in event offers an opportunity to speak with City Council\, staff\, and representatives from the RCMP\, fire department\, bylaw services\, and 100 More Homes. \n\n\n\nLearn more about the 2025-2029 Financial Plan\, share your thoughts\, and help shape the future of Penticton.
URL:https://pentictonconventioncentre.com/event/city-of-penticton-council-open-house/
ATTACH;FMTTYPE=image/png:https://pentictonconventioncentre.com/wp-content/uploads/2024/10/City-of-Penticton-Council-Open-House-.png
END:VEVENT
END:VCALENDAR