BEGIN:VCALENDAR
VERSION:2.0
PRODID:-//Penticton Trade and Convention Centre - ECPv6.15.20//NONSGML v1.0//EN
CALSCALE:GREGORIAN
METHOD:PUBLISH
X-WR-CALNAME:Penticton Trade and Convention Centre
X-ORIGINAL-URL:https://pentictonconventioncentre.com
X-WR-CALDESC:Events for Penticton Trade and Convention Centre
REFRESH-INTERVAL;VALUE=DURATION:PT1H
X-Robots-Tag:noindex
X-PUBLISHED-TTL:PT1H
BEGIN:VTIMEZONE
TZID:America/Vancouver
BEGIN:DAYLIGHT
TZOFFSETFROM:-0800
TZOFFSETTO:-0700
TZNAME:PDT
DTSTART:20230312T100000
END:DAYLIGHT
BEGIN:STANDARD
TZOFFSETFROM:-0700
TZOFFSETTO:-0800
TZNAME:PST
DTSTART:20231105T090000
END:STANDARD
BEGIN:DAYLIGHT
TZOFFSETFROM:-0800
TZOFFSETTO:-0700
TZNAME:PDT
DTSTART:20240310T100000
END:DAYLIGHT
BEGIN:STANDARD
TZOFFSETFROM:-0700
TZOFFSETTO:-0800
TZNAME:PST
DTSTART:20241103T090000
END:STANDARD
BEGIN:DAYLIGHT
TZOFFSETFROM:-0800
TZOFFSETTO:-0700
TZNAME:PDT
DTSTART:20250309T100000
END:DAYLIGHT
BEGIN:STANDARD
TZOFFSETFROM:-0700
TZOFFSETTO:-0800
TZNAME:PST
DTSTART:20251102T090000
END:STANDARD
END:VTIMEZONE
BEGIN:VEVENT
DTSTART;TZID=America/Vancouver:20241007T080000
DTEND;TZID=America/Vancouver:20241009T170000
DTSTAMP:20260420T161439
CREATED:20240514T224221Z
LAST-MODIFIED:20240702T222307Z
UID:10000025-1728288000-1728493200@pentictonconventioncentre.com
SUMMARY:BC Municipal Safety Association & Public Works Association of BC 6th Joint Annual Conference and Trade Show 2024
DESCRIPTION:JAC 2024!\n\n\n\nGet ready for another remarkable year of the Joint Annual Conference & Trade Show #JAC2024\, set to be even more exceptional than ever. Be part of the event in Penticton\, BC in 2024; it’s an experience you won’t want to miss. \n\n\n\n2024 Conference Theme\n\n\n\n“Empowering the Future” \n\n\n\nWhat About The Conference?\n\n\n\nOur conference includes a variety of presentations and panels featuring over 30 presentations from across North America\, attended by up to 450 people\, complemented by a dynamic trade show with over 100 exhibitors. \n\n\n\nThe education program at the conference provides a vibrant forum for information exchange which is categorized into three focused streams: Public Works & Utilities\, Occupational Health & Safety\, and Leadership. Our goal is to provide delegates with a diverse range of topics to optimize their learning experience\, take advantage of emerging technologies\, understand and prepare for challenges that lie ahead\, and provide better services to their organizations and communities.
URL:https://pentictonconventioncentre.com/event/bc-municipal-safety-association-public-works-association-of-bc-6th-joint-annual-conference-and-trade-show-2024/
ATTACH;FMTTYPE=image/png:https://pentictonconventioncentre.com/wp-content/uploads/2024/05/lapH5.png
END:VEVENT
END:VCALENDAR