BEGIN:VCALENDAR
VERSION:2.0
PRODID:-//Penticton Trade and Convention Centre - ECPv6.15.20//NONSGML v1.0//EN
CALSCALE:GREGORIAN
METHOD:PUBLISH
X-WR-CALNAME:Penticton Trade and Convention Centre
X-ORIGINAL-URL:https://pentictonconventioncentre.com
X-WR-CALDESC:Events for Penticton Trade and Convention Centre
REFRESH-INTERVAL;VALUE=DURATION:PT1H
X-Robots-Tag:noindex
X-PUBLISHED-TTL:PT1H
BEGIN:VTIMEZONE
TZID:America/Vancouver
BEGIN:DAYLIGHT
TZOFFSETFROM:-0800
TZOFFSETTO:-0700
TZNAME:PDT
DTSTART:20230312T100000
END:DAYLIGHT
BEGIN:STANDARD
TZOFFSETFROM:-0700
TZOFFSETTO:-0800
TZNAME:PST
DTSTART:20231105T090000
END:STANDARD
BEGIN:DAYLIGHT
TZOFFSETFROM:-0800
TZOFFSETTO:-0700
TZNAME:PDT
DTSTART:20240310T100000
END:DAYLIGHT
BEGIN:STANDARD
TZOFFSETFROM:-0700
TZOFFSETTO:-0800
TZNAME:PST
DTSTART:20241103T090000
END:STANDARD
BEGIN:DAYLIGHT
TZOFFSETFROM:-0800
TZOFFSETTO:-0700
TZNAME:PDT
DTSTART:20250309T100000
END:DAYLIGHT
BEGIN:STANDARD
TZOFFSETFROM:-0700
TZOFFSETTO:-0800
TZNAME:PST
DTSTART:20251102T090000
END:STANDARD
END:VTIMEZONE
BEGIN:VEVENT
DTSTART;TZID=America/Vancouver:20240715T080000
DTEND;TZID=America/Vancouver:20240719T170000
DTSTAMP:20260423T085758
CREATED:20240514T222400Z
LAST-MODIFIED:20240703T184538Z
UID:10000022-1721030400-1721408400@pentictonconventioncentre.com
SUMMARY:North American Wildlife Enforcement Officers Association
DESCRIPTION:The North American Wildlife Enforcement Officers Association (NAWEOA) returns to Penticton\, July 15-19\, 2024.  \n\n\n\nPlease note: This convention is for registered delegates and exhibitors only.
URL:https://pentictonconventioncentre.com/event/north-american-wildfire-enforcement-officers-association/
ATTACH;FMTTYPE=image/webp:https://pentictonconventioncentre.com/wp-content/uploads/2024/05/BC2024Logo_Color.webp
END:VEVENT
END:VCALENDAR