BEGIN:VCALENDAR
VERSION:2.0
PRODID:-//Penticton Trade and Convention Centre - ECPv6.15.20//NONSGML v1.0//EN
CALSCALE:GREGORIAN
METHOD:PUBLISH
X-WR-CALNAME:Penticton Trade and Convention Centre
X-ORIGINAL-URL:https://pentictonconventioncentre.com
X-WR-CALDESC:Events for Penticton Trade and Convention Centre
REFRESH-INTERVAL;VALUE=DURATION:PT1H
X-Robots-Tag:noindex
X-PUBLISHED-TTL:PT1H
BEGIN:VTIMEZONE
TZID:America/Vancouver
BEGIN:DAYLIGHT
TZOFFSETFROM:-0800
TZOFFSETTO:-0700
TZNAME:PDT
DTSTART:20230312T100000
END:DAYLIGHT
BEGIN:STANDARD
TZOFFSETFROM:-0700
TZOFFSETTO:-0800
TZNAME:PST
DTSTART:20231105T090000
END:STANDARD
BEGIN:DAYLIGHT
TZOFFSETFROM:-0800
TZOFFSETTO:-0700
TZNAME:PDT
DTSTART:20240310T100000
END:DAYLIGHT
BEGIN:STANDARD
TZOFFSETFROM:-0700
TZOFFSETTO:-0800
TZNAME:PST
DTSTART:20241103T090000
END:STANDARD
BEGIN:DAYLIGHT
TZOFFSETFROM:-0800
TZOFFSETTO:-0700
TZNAME:PDT
DTSTART:20250309T100000
END:DAYLIGHT
BEGIN:STANDARD
TZOFFSETFROM:-0700
TZOFFSETTO:-0800
TZNAME:PST
DTSTART:20251102T090000
END:STANDARD
END:VTIMEZONE
BEGIN:VEVENT
DTSTART;TZID=America/Vancouver:20240604T080000
DTEND;TZID=America/Vancouver:20240607T130000
DTSTAMP:20260423T102756
CREATED:20240514T213425Z
LAST-MODIFIED:20251202T214551Z
UID:10000018-1717488000-1717765200@pentictonconventioncentre.com
SUMMARY:2024 Educational Facility Managers Association of BC Conference\, AGM & Trade Show
DESCRIPTION:Supporting Your Success \n\n\n\n \n\n\n\nSince 1964\, Educational Facility Managers from school districts around BC have been meeting to provide support to one another and share ideas. Members come from a variety of backgrounds with the common goal of maintaining a high standard of professional knowledge and skill as well as safety. \n\n\n\nEFMA of BC returns to the Penticton Trade and Convention Centre for their 59th Annual Conference and Trade Show. The conference and trade show takes place May 31 to June 2\, 2023. \n\n\n\nPlease note: For registered exhibitors and delegates only.
URL:https://pentictonconventioncentre.com/event/efma-2024/
ATTACH;FMTTYPE=image/png:https://pentictonconventioncentre.com/wp-content/uploads/2024/05/WEDNESDAY-JUNE.png
END:VEVENT
BEGIN:VEVENT
DTSTART;TZID=America/Vancouver:20240607T193000
DTEND;TZID=America/Vancouver:20240607T213000
DTSTAMP:20260423T102756
CREATED:20240514T214824Z
LAST-MODIFIED:20240702T224849Z
UID:10000019-1717788600-1717795800@pentictonconventioncentre.com
SUMMARY:The BC Top 50 Grand Tasting
DESCRIPTION:The Okanagan Spring Wine Festival proudly introduces the BC Top 50 Grand Tasting. Be the first to taste the Top 50 wines selected by the esteemed judging panel of the British Columbia Wine Awards. \n\n\n\nThe judging competition takes place May 27-29. This exclusive tasting is the inaugural eve of the Okanagan Spring Wine Festival..  \n\n\n\nEnjoy this incredible showcase of BC’s Top 50 wines as well as the wines that were submitted during the competition. It is an evening featuring the wines that our winemaker’s considered their best! \n\n\n\nThis is a wine focussed event and their will be some light snacks and music.  \n\n\n\n@visitsouthokanagan  \n\n\n\n\n\n\nMore Info
URL:https://pentictonconventioncentre.com/event/bc-top-50-grand-tasting/
ATTACH;FMTTYPE=image/jpeg:https://pentictonconventioncentre.com/wp-content/uploads/2024/05/BCWineTop50-Portrait.jpg
END:VEVENT
END:VCALENDAR