BEGIN:VCALENDAR
VERSION:2.0
PRODID:-//Penticton Trade and Convention Centre - ECPv6.15.20//NONSGML v1.0//EN
CALSCALE:GREGORIAN
METHOD:PUBLISH
X-ORIGINAL-URL:https://pentictonconventioncentre.com
X-WR-CALDESC:Events for Penticton Trade and Convention Centre
REFRESH-INTERVAL;VALUE=DURATION:PT1H
X-Robots-Tag:noindex
X-PUBLISHED-TTL:PT1H
BEGIN:VTIMEZONE
TZID:America/Vancouver
BEGIN:DAYLIGHT
TZOFFSETFROM:-0800
TZOFFSETTO:-0700
TZNAME:PDT
DTSTART:20230312T100000
END:DAYLIGHT
BEGIN:STANDARD
TZOFFSETFROM:-0700
TZOFFSETTO:-0800
TZNAME:PST
DTSTART:20231105T090000
END:STANDARD
BEGIN:DAYLIGHT
TZOFFSETFROM:-0800
TZOFFSETTO:-0700
TZNAME:PDT
DTSTART:20240310T100000
END:DAYLIGHT
BEGIN:STANDARD
TZOFFSETFROM:-0700
TZOFFSETTO:-0800
TZNAME:PST
DTSTART:20241103T090000
END:STANDARD
BEGIN:DAYLIGHT
TZOFFSETFROM:-0800
TZOFFSETTO:-0700
TZNAME:PDT
DTSTART:20250309T100000
END:DAYLIGHT
BEGIN:STANDARD
TZOFFSETFROM:-0700
TZOFFSETTO:-0800
TZNAME:PST
DTSTART:20251102T090000
END:STANDARD
END:VTIMEZONE
BEGIN:VEVENT
DTSTART;TZID=America/Vancouver:20240507T080000
DTEND;TZID=America/Vancouver:20240509T170000
DTSTAMP:20260423T120137
CREATED:20240502T214343Z
LAST-MODIFIED:20240702T230147Z
UID:10000015-1715068800-1715274000@pentictonconventioncentre.com
SUMMARY:Canadian Avalanche Association 2024 Spring Conference
DESCRIPTION:The CAA Spring Conference returns this year at the Penticton Convention Centre. We’ll gather on May 7-9 2024\, for the AGM and case studies and research presentations. We are also delighted to see the return of our Member Social and Link Up and Learn.  \n\n\n\nPlease note: For Registered Delegates and Exhibitors Only.
URL:https://pentictonconventioncentre.com/event/canadian-avalanche-association-2024-spring-conference/
ATTACH;FMTTYPE=image/png:https://pentictonconventioncentre.com/wp-content/uploads/2024/05/PTCC-Canadian-Avalanche-2024.png
END:VEVENT
END:VCALENDAR