BEGIN:VCALENDAR
VERSION:2.0
PRODID:-//Penticton Trade and Convention Centre - ECPv6.15.20//NONSGML v1.0//EN
CALSCALE:GREGORIAN
METHOD:PUBLISH
X-WR-CALNAME:Penticton Trade and Convention Centre
X-ORIGINAL-URL:https://pentictonconventioncentre.com
X-WR-CALDESC:Events for Penticton Trade and Convention Centre
REFRESH-INTERVAL;VALUE=DURATION:PT1H
X-Robots-Tag:noindex
X-PUBLISHED-TTL:PT1H
BEGIN:VTIMEZONE
TZID:America/Vancouver
BEGIN:DAYLIGHT
TZOFFSETFROM:-0800
TZOFFSETTO:-0700
TZNAME:PDT
DTSTART:20230312T100000
END:DAYLIGHT
BEGIN:STANDARD
TZOFFSETFROM:-0700
TZOFFSETTO:-0800
TZNAME:PST
DTSTART:20231105T090000
END:STANDARD
BEGIN:DAYLIGHT
TZOFFSETFROM:-0800
TZOFFSETTO:-0700
TZNAME:PDT
DTSTART:20240310T100000
END:DAYLIGHT
BEGIN:STANDARD
TZOFFSETFROM:-0700
TZOFFSETTO:-0800
TZNAME:PST
DTSTART:20241103T090000
END:STANDARD
BEGIN:DAYLIGHT
TZOFFSETFROM:-0800
TZOFFSETTO:-0700
TZNAME:PDT
DTSTART:20250309T100000
END:DAYLIGHT
BEGIN:STANDARD
TZOFFSETFROM:-0700
TZOFFSETTO:-0800
TZNAME:PST
DTSTART:20251102T090000
END:STANDARD
END:VTIMEZONE
BEGIN:VEVENT
DTSTART;TZID=America/Vancouver:20240427T100000
DTEND;TZID=America/Vancouver:20240428T160000
DTSTAMP:20260420T175634
CREATED:20240228T203319Z
LAST-MODIFIED:20240702T231803Z
UID:10000003-1714212000-1714320000@pentictonconventioncentre.com
SUMMARY:Craft Culture Penticton Spring Market 2024
DESCRIPTION:Get ready for a wonderful weekend of shopping and fun at the Craft Culture Penticton Spring Market on Saturday\, April 27 and Sunday\, April 28\, 2024! With over 80 craft and artisan vendors\, Craft Culture brings you the best quality products from BC’s most talented makers. This is one event you won’t want to miss – so mark it on your calendar and get ready to shop! \n\n\n\nShow Hours:Saturday\, April 27\, 2024: 10AM to 5PMSunday\, April 28\, 2024: 10AM to 4PM \n\n\n\nTickets:Tickets are $5* at the door\, children 15 and under are free! (*cash and debit\, ATMs are available.) \n\n\n\nFor more information or to see the vendor list\, please visit: craftculture.ca 
URL:https://pentictonconventioncentre.com/event/craft-culture-penticton-spring-market-2024/
ATTACH;FMTTYPE=image/png:https://pentictonconventioncentre.com/wp-content/uploads/2024/02/penticton-spring-market.png
END:VEVENT
END:VCALENDAR