BEGIN:VCALENDAR
VERSION:2.0
PRODID:-//Penticton Trade and Convention Centre - ECPv6.15.20//NONSGML v1.0//EN
CALSCALE:GREGORIAN
METHOD:PUBLISH
X-WR-CALNAME:Penticton Trade and Convention Centre
X-ORIGINAL-URL:https://pentictonconventioncentre.com
X-WR-CALDESC:Events for Penticton Trade and Convention Centre
REFRESH-INTERVAL;VALUE=DURATION:PT1H
X-Robots-Tag:noindex
X-PUBLISHED-TTL:PT1H
BEGIN:VTIMEZONE
TZID:America/Vancouver
BEGIN:DAYLIGHT
TZOFFSETFROM:-0800
TZOFFSETTO:-0700
TZNAME:PDT
DTSTART:20230312T100000
END:DAYLIGHT
BEGIN:STANDARD
TZOFFSETFROM:-0700
TZOFFSETTO:-0800
TZNAME:PST
DTSTART:20231105T090000
END:STANDARD
BEGIN:DAYLIGHT
TZOFFSETFROM:-0800
TZOFFSETTO:-0700
TZNAME:PDT
DTSTART:20240310T100000
END:DAYLIGHT
BEGIN:STANDARD
TZOFFSETFROM:-0700
TZOFFSETTO:-0800
TZNAME:PST
DTSTART:20241103T090000
END:STANDARD
BEGIN:DAYLIGHT
TZOFFSETFROM:-0800
TZOFFSETTO:-0700
TZNAME:PDT
DTSTART:20250309T100000
END:DAYLIGHT
BEGIN:STANDARD
TZOFFSETFROM:-0700
TZOFFSETTO:-0800
TZNAME:PST
DTSTART:20251102T090000
END:STANDARD
END:VTIMEZONE
BEGIN:VEVENT
DTSTART;TZID=America/Vancouver:20240414T080000
DTEND;TZID=America/Vancouver:20240416T170000
DTSTAMP:20260420T173804
CREATED:20240314T195434Z
LAST-MODIFIED:20240702T234453Z
UID:10000009-1713081600-1713286800@pentictonconventioncentre.com
SUMMARY:BC Fairs Learning Exchange 2024
DESCRIPTION:111th Annual BC Fairs Learning Exchange – Blending Agriculture and Tourism – It Begins With Us!Date: April 14-16\, 2024Location: Penticton Trade & Convention CentreRegistration required: Visit https://www.bcfairs.ca/learning-exchange-2024BC’s agricultural fairs\, festivals and exhibitions have been putting a smile on the face of fairgoers for more than a century!  These events are the original local food movement\, bringing communities together to celebrate and learn about agriculture through fun and entertainment. The 2024 Learning Exchange will focus on the relationship between agriculture and tourism and building community connections. Meet with event organizers from across the province\, share ideas\, and discover opportunities. \n\n\n\nRegistration is open to member and non-member organizations/businesses/individuals. Full registration includes all meals/breaks\, sessions\, and evening activities.  One-day registration includes lunch on the day of attendance. \n\n\n\nProudly presented by the BC Association of Agricultural Fairs and Exhibitions (BC Fairs) in Penticton\, BC\, on the unceded territory of the Okanagan (Syilx) People. \n\n\n\nPlease note: This event is for registered delegates and exhibitors.
URL:https://pentictonconventioncentre.com/event/bc-fairs-learning-exchange-2024/
ATTACH;FMTTYPE=image/png:https://pentictonconventioncentre.com/wp-content/uploads/2024/03/cRFxC.png
END:VEVENT
END:VCALENDAR